BEGIN:VCALENDAR
VERSION:2.0
PRODID:-//SRMAP Events - ECPv6.15.11//NONSGML v1.0//EN
CALSCALE:GREGORIAN
METHOD:PUBLISH
X-ORIGINAL-URL:https://events.srmap.edu.in
X-WR-CALDESC:Events for SRMAP Events
REFRESH-INTERVAL;VALUE=DURATION:PT1H
X-Robots-Tag:noindex
X-PUBLISHED-TTL:PT1H
BEGIN:VTIMEZONE
TZID:Asia/Kolkata
BEGIN:STANDARD
TZOFFSETFROM:+0530
TZOFFSETTO:+0530
TZNAME:IST
DTSTART:20220101T000000
END:STANDARD
END:VTIMEZONE
BEGIN:VEVENT
DTSTART;TZID=Asia/Kolkata:20230510T160000
DTEND;TZID=Asia/Kolkata:20230510T170000
DTSTAMP:20260422T040703
CREATED:20240127T014400Z
LAST-MODIFIED:20240127T014400Z
UID:142877-1683734400-1683738000@events.srmap.edu.in
SUMMARY:Seminar on Examining Societal Norms and Empowering Change
DESCRIPTION:ACTS Club of SRM University-AP recently organised an interactive seminar titled “Of Pockets and Nighties” by Dr Ipsita Pradhan\, Assistant Professor\, School of Liberal Arts and Social Sciences\, shedding light on the profound influence of patriarchy on dressing styles. The seminar aimed to delve into the societal norms that shape gender-based dress codes\, perpetuating inequality. With the objective of raising awareness and empowering participants to question traditional expectations\, the event sparked meaningful discussions and inspired action towards a more inclusive and equitable society. \nThe seminar provided a platform for participants to critically analyse the impact of gendered dressing norms and explore the ways in which these norms contribute to the perpetuation of gender inequality. Dr Ipsita Pradhan\, an expert in the field\, guided attendees through a thought-provoking session that challenged conventional notions of dressing and the associated gender stereotypes. \nThrough engaging discussions and insightful presentations\, participants gained awareness of the deep-rooted influence of patriarchy on dressing choices. The seminar encouraged individuals to question societal expectations and norms\, empowering them to challenge traditional gender-based dress codes. \nThe event fostered collaboration and networking\, creating an environment for participants to connect and exchange ideas. This laid the groundwork for future initiatives aimed at promoting inclusivity and creating a more equitable society. Attendees left the seminar with a renewed sense of purpose and determination to drive positive change in their communities. \nAs SRM University-AP continues to champion gender equality and inclusivity\, events like “Of Pockets and Nighties” serve as catalysts for deeper conversations and actions that challenge the status quo.
URL:https://events.srmap.edu.in/event/seminar-on-examining-societal-norms-and-empowering-change/
CATEGORIES:Events,Students Affairs Events
END:VEVENT
END:VCALENDAR