BEGIN:VCALENDAR
VERSION:2.0
PRODID:-//SRMAP Events - ECPv6.15.11//NONSGML v1.0//EN
CALSCALE:GREGORIAN
METHOD:PUBLISH
X-WR-CALNAME:SRMAP Events
X-ORIGINAL-URL:https://events.srmap.edu.in
X-WR-CALDESC:Events for SRMAP Events
REFRESH-INTERVAL;VALUE=DURATION:PT1H
X-Robots-Tag:noindex
X-PUBLISHED-TTL:PT1H
BEGIN:VTIMEZONE
TZID:Asia/Kolkata
BEGIN:STANDARD
TZOFFSETFROM:+0530
TZOFFSETTO:+0530
TZNAME:IST
DTSTART:20170101T000000
END:STANDARD
END:VTIMEZONE
BEGIN:VEVENT
DTSTART;TZID=Asia/Kolkata:20210109T170000
DTEND;TZID=Asia/Kolkata:20210109T180000
DTSTAMP:20260420T082637
CREATED:20210109T053000Z
LAST-MODIFIED:20250528T120108Z
UID:142665-1610211600-1610215200@events.srmap.edu.in
SUMMARY:The Newsmakers presents the winners of iHack Alpha
DESCRIPTION:The Newsmakers presents an exhilarating session with Harsha and Mahesh\, our winners at iHack Alpha Hackathon. iHack Alpha is an AI-Hackathon\, where developers from all backgrounds were invited to solve real-world problems with innovative AI solutions\, powered by sentient.io AI and Data platform. It was conducted over three weeks starting from December 2\, 2020\, and finished on December 27\, 2020. The whole Hackathon was broadcasted online. Harsha and Mahesh\, B.Tech students at Department of Electronics and Communication Engineering\, won the grand cash prize of $2300 after defeating 1083 teams worldwide. Join the ceremonious occasion on January 9\, 2021\, at 5 pm to listen to the Winners’ experience. Know your peers better. Join them at 5 pm today.
URL:https://events.srmap.edu.in/event/the-newsmakers-presents-the-winners-of-ihack-alpha/
CATEGORIES:Events,Students Affairs Events
END:VEVENT
BEGIN:VEVENT
DTSTART;TZID=Asia/Kolkata:20201216T173000
DTEND;TZID=Asia/Kolkata:20201216T183000
DTSTAMP:20260420T082637
CREATED:20201216T045200Z
LAST-MODIFIED:20250528T120107Z
UID:142663-1608139800-1608143400@events.srmap.edu.in
SUMMARY:"Choosing My Career Path"-A guide to the students for their future and profession
DESCRIPTION:Post-teenage life is very crucial for one’s future. Whereas you enjoy living amidst the fun and laughter of college life\, on the other hand\, some significant decisions are also to be made at this time. These decisions will shape your life\, so you have to think sensibly. A person is full of limitless possibilities\, and this is the proper time to judge yourself\, know your strength and weave your future accordingly. \nThe Department of Student Affairs brings you this opportunity to know yourself better. “Choosing my career Path” is not only an event but a road map for the students to decide upon their career. During graduation\, a student has a choice of applying for a job or opt for higher studies or take up entrepreneurship as one’s career. To understand the path best suited\, that will bring satisfaction to the student\, this program is designed to provide the students with the necessary food for thought. This is the guidance that every student needs before deciding upon the future. Therefore the first session of “Choosing my career Path” will be presented by Dr Sunil Chinnadurai\, who will give insight on Higher Studies\, the examinations involved and how to prepare for that. This session will help you in the process of creating the best-suited road map for you. Looking forward to seeing you today\, December 16\, 2020\, at 5.30 pm.
URL:https://events.srmap.edu.in/event/choosing-my-career-path-a-guide-to-the-students-for-their-future-and-profession/
CATEGORIES:Events,Students Affairs Events
END:VEVENT
BEGIN:VEVENT
DTSTART;TZID=Asia/Kolkata:20201128T170000
DTEND;TZID=Asia/Kolkata:20201128T180000
DTSTAMP:20260420T082637
CREATED:20201127T061500Z
LAST-MODIFIED:20250528T120107Z
UID:142661-1606582800-1606586400@events.srmap.edu.in
SUMMARY:The Newsmaker brings Dr Imran Pancha to usher students in the domain of Biotechnology
DESCRIPTION:The Newsmaker is back with another exciting chapter. This time on The Newsmaker\, Dr Imran Pancha will be joining the students to share his perspective on research and academia. Dr Imran Pancha is an Assistant Professor in the Department of Biological Sciences. Recently\, he has been recognised among the top 2% scientists across the world in the field of Biotechnology by the Stanford University Researchers. His research interest is primarily based on Microalgal and renewable energy. Join the enlightening session on November 28\, 2020 at 5 pm to know more about the domain of Biotechnology and its future prospects.
URL:https://events.srmap.edu.in/event/the-newsmaker-brings-dr-imran-pancha-to-usher-students-in-the-domain-of-biotechnology/
CATEGORIES:Events,Students Affairs Events
END:VEVENT
BEGIN:VEVENT
DTSTART;TZID=Asia/Kolkata:20201121T170000
DTEND;TZID=Asia/Kolkata:20201121T180000
DTSTAMP:20260420T082637
CREATED:20201119T040200Z
LAST-MODIFIED:20250528T123822Z
UID:142659-1605978000-1605981600@events.srmap.edu.in
SUMMARY:Department of Student Affairs organize a session with budding entrepreneurs
DESCRIPTION:Department of Student Affairs\, SRM University-AP\, Andhra Pradesh organizes yet another chapter of Newsmakers. On November 21\, 2020\, at 5 PM\, Sourav Sanyal\, Miran Junaidi\, and Saurabh Ghanekar\, 4th year\, Department of Computer Science and Engineering will be narrating their tale of forming a start-up named oureye.ai. The young entrepreneurs developed an automated\, end-to-end video intelligence solution for enterprises to monitor surveillance camera recordings\, leveraging pre-existing CCTV-IP infrastructure. \nThe three brilliant students grabbed the opportunities provided by SRM AP and became an active member of the student-run technological club of SRM AP\, Next Tech Lab. Further\, they spent a semester at the University of California\, Berkeley as part of the Semester Abroad Programme to broaden their horizon of knowledge. Encouraged by the mentors and faculty\, the students participated in several international conferences and hackathons which kindled their interest in developing a platform that would provide practical solutions to real-life problems. \nDuring the session\, the students will share insights regarding their start-up. Also\, they will narrate the inspiring journey that commenced with their erudite experience at SRM AP\, which eventually enabled them to become young entrepreneurs. Their company generated a revenue of Rs. 1.7 million in the recent financial year.
URL:https://events.srmap.edu.in/event/department-of-student-affairs-organize-a-session-with-budding-entrepreneurs/
CATEGORIES:Events,Students Affairs Events,Webinars
END:VEVENT
BEGIN:VEVENT
DTSTART;TZID=Asia/Kolkata:20201113T080000
DTEND;TZID=Asia/Kolkata:20201113T170000
DTSTAMP:20260420T082638
CREATED:20201112T013500Z
LAST-MODIFIED:20250528T120107Z
UID:142658-1605254400-1605286800@events.srmap.edu.in
SUMMARY:Car Designing Contest-2020 to challenge your imagination and intellect
DESCRIPTION:Department of Student Affairs brings another exciting yet thought-provoking Car Designing Contest-2020 for the tech-savvy Generation-Z. An open challenge is given to the students to visualise their dream car and share it with the judges and the spectators. The competition is divided into three categories:\n1. Sketch of your dream car.\n2. Write up on your dream car.\n3. Model of your dream car.\n \nAll the students from the first year to the fourth year can participate in the contest. They can project their dream car using a designing software or simple on paper. Moreover\, if someone has a flair for writing\, they are most welcome to express it through the medium of 100-150 finely crafted words. \nAs William Blake said\,” What is now proved was only imagined”. Being a movie buff or literature enthusiast\, you must have come across many high-tech\, beautifully designed cars. BATMOBILE\, Bond cars\, The car in Kingsman movie\, Hotwheels cars are some meagre examples of that. Even in Bollywood movies like “Dhoom 3”\, we have seen BMW bikes which can change to a speedboat when required. It is now your time to show us how vividly and tactfully you can imagine a car like that. Let your imagination run wild and come up with something extraordinary. Add wings to your dreams and bring out the technical side of you into the open and charge your brains. \nSo grab the opportunity and get noticed. Fill the google form and submit your files. For any further information or query\, you can mail to venkata_sesha@srmap.edu.in. \nTo apply and submit: Click Here to fill out the google form \nLast Date for submission: November 13\, 2020  \nAnnouncement of the Winners: November 15\, 2020
URL:https://events.srmap.edu.in/event/car-designing-contest-2020-to-challenge-your-imagination-and-intellect/
CATEGORIES:Events,Students Affairs Events
END:VEVENT
BEGIN:VEVENT
DTSTART;TZID=Asia/Kolkata:20200829T170000
DTEND;TZID=Asia/Kolkata:20200829T180000
DTSTAMP:20260420T082638
CREATED:20210828T063900Z
LAST-MODIFIED:20210828T063900Z
UID:142785-1598720400-1598724000@events.srmap.edu.in
SUMMARY:Mr KK Doddapaneni to inspire students on National Sports Day-2021
DESCRIPTION:On the occasion of National Sports Day\, the Department of Student Affairs has organised a webinar on the importance of Games and Sports in a Student’s life. Celebrated IPL and Ranji Trophy player\, Mr Kalyana Krishna Doddapaneni\, will deliver a special talk to inspire and motivate students on August 29\, 2021\, at 05.00 pm. \nMr Doddapaneni played in the Indian Premier League during the years of 2008-09 for the Deccan Chargers team. Prior to that\, he played in the Andhra Ranji Cricket Team for 10 years and bagged 200+ first-class wickets. He has also played in vital tournaments such a Duleep and Deodhar Trophies. Mr Doddapaneni is currently working as a leading commentator for Start Sports. He is also the chairman of the Cricket Advisory Committee\, Andhra Cricket Association. He has further established KK Global Cricket Academy in Andhra Pradesh with state-of-the-art facilities to promote cricket. \nSports are a crucial part of a student’s holistic growth and development. Games and sports provide great help in the development of mental health and physical fitness of the body. In addition\, through participation in sports and games\, a student attains various skills and confidence helpful for developing their personality. \nSports and games have several benefits for the students\, such as it improves physical and mental health\, empowers students with life skills\, teaches time management and discipline\, improves leadership and team-building qualities\, teaches important life lessons such as Winning and losing and boosts self-confidence.
URL:https://events.srmap.edu.in/event/mr-kk-doddapaneni-to-inspire-students-on-national-sports-day-2021/
CATEGORIES:Events,Students Affairs Events
END:VEVENT
BEGIN:VEVENT
DTSTART;TZID=Asia/Kolkata:20200827T143000
DTEND;TZID=Asia/Kolkata:20200827T163000
DTSTAMP:20260420T082638
CREATED:20210824T070800Z
LAST-MODIFIED:20210824T070800Z
UID:142771-1598538600-1598545800@events.srmap.edu.in
SUMMARY:Learn the tricks to calm and organise your mind with Ragini Mathur
DESCRIPTION:The well-designed Freshmen Orientation Programme-2021 not only gives an overview of the university systems and process but also provides a gateway to holistic development for the students. Progressing with the orientation programmes\, the second session on the mindfulness of the students has been planned in collaboration with Heartfulness Institute for August 27\, 2021\, at 2.30 pm. Ms Ragini Mathur\, one of the dedicated trainers of Heartfulness Institute\, will enlighten the students on “Refresh (Organizing the Mind)”. \nMs Ragini Mathur started her career as a Government teacher. She later got selected in Central Railways in RE Project. She secured promotion and became Divisional Railway Manager for the Bhopal Region. After taking voluntary retirement from Railway Services\, she worked as an Administrative Office Superintendent. She joined Heartfulness Institute more the two and half decades ago and became a trainer in 2011. The versatile Ms Mathur has also worked as a radio jockey and a casual announcer for Yuvvani Programme in Akashvani. At present\, she is working as a Campus Connect Coordinator for the Heartfulness Institute. \nJoin the session on August 27\, 2021\, at 2.30 pm to learn the tricks to calm and organise your mind from the expert herself.
URL:https://events.srmap.edu.in/event/learn-the-tricks-to-calm-and-organise-your-mind-with-ragini-mathur/
CATEGORIES:Events,Students Affairs Events
END:VEVENT
BEGIN:VEVENT
DTSTART;TZID=Asia/Kolkata:20200629T150000
DTEND;TZID=Asia/Kolkata:20200629T163000
DTSTAMP:20260420T082638
CREATED:20240123T033300Z
LAST-MODIFIED:20240123T033300Z
UID:142872-1593442800-1593448200@events.srmap.edu.in
SUMMARY:Dr Seran delivers a discourse on Speak Your Heart
DESCRIPTION:The Directorate of Student Affairs at SRM University-AP organised a session titled Speak Your Heart (The Happiness Trip) on June 29\, 2020. The talk explored the understanding of Happiness and decoded the multiple ways of achieving and retaining it. Dr Nappinnai Seran\, Professor\, Department of Psychiatry at Meenakshi Medical College delivered the talk. Dr Seran is also a renowned psychologist and Marital  Therapist. \nThe session tackled the idea that people need to strive for a happier and more fulfilling life. It busted the misconception that momentary happiness is insignificant. Dr Seran\, a leading expert on the subject\, shared invaluable insights on how to achieve true happiness and maintain it. Attendees were given a unique opportunity to learn about the complexities of the Happiness Trap and how to avoid it.  \nDr  Nappinnai Seran’s expertise allowed the students an opportunity to imbibe and navigate the challenges related to happiness and well-being. The interactive nature of the session encourages active participation and the exchange of ideas. Dr Nappinnai Seran’s ability to seamlessly blend professional expertise with relatable anecdotes resonated strongly with the audience. The interactive nature of the session\, especially the Q&A segment\, facilitated a direct connection between Dr Seran and the students\, fostering a sense of community and shared understanding.
URL:https://events.srmap.edu.in/event/dr-seran-delivers-a-discourse-on-speak-your-heart/
CATEGORIES:Events,Students Affairs Events
END:VEVENT
BEGIN:VEVENT
DTSTART;TZID=Asia/Kolkata:20200621T063000
DTEND;TZID=Asia/Kolkata:20200621T193000
DTSTAMP:20260420T082638
CREATED:20240131T052300Z
LAST-MODIFIED:20240131T052300Z
UID:142917-1592721000-1592767800@events.srmap.edu.in
SUMMARY:International Yoga Day 2020 Goes Virtual
DESCRIPTION:The International Yoga Day on June 21\, 2020\, was held online and attended by more than 100 students and faculty members. The event aimed to spread the message of Vasudeva Kutubakam\, which means “One Earth\, One Family\, One Future.” Despite the physical distance\, the event highlighted the unity and interdependence of humanity and the planet. \nThe observance of Yoga Day provided a much-needed respite from the harsh reality of death and disease during the pandemic. By merging technology and ancient wisdom\, the participants were able to achieve a balance between physical and mental well-being.
URL:https://events.srmap.edu.in/event/international-yoga-day-2020-goes-virtual/
CATEGORIES:Events,Students Affairs Events
END:VEVENT
BEGIN:VEVENT
DTSTART;TZID=Asia/Kolkata:20200308T090000
DTEND;TZID=Asia/Kolkata:20200308T230000
DTSTAMP:20260420T082638
CREATED:20240131T043400Z
LAST-MODIFIED:20250703T110409Z
UID:142913-1583658000-1583708400@events.srmap.edu.in
SUMMARY:International Women’s Day celebrated with a Week-Long Festivity
DESCRIPTION:In a spirited commemoration of International Women’s Day\, the Directorate of Student Affairs orchestrated a series of events and activities promoting equality and empowerment on campus. The multifaceted celebration aimed to encourage participation\, exhibit talent\, and advocate for gender inclusivity. \nThroughout the week\, the campus exuded an air of vibrancy as students\, faculty\, and staff enthusiastically engaged in various activities\, fostering a deep sense of community and mutual respect. The resounding success of the celebration underscored the significance of gender equality\, creating an encouraging and supportive environment for all members of the university community. \nThe diverse range of activities and competitions organised during this week-long festivity served as a testament to the institution’s unwavering commitment to championing gender equality. Through these endeavors\, we have taken a significant step towards creating an environment that nurtures and promotes the talents and potential of all individuals\, regardless of gender.
URL:https://events.srmap.edu.in/event/international-womens-day-celebrated-with-a-week-long-festivity/
CATEGORIES:Events,Students Affairs Events
END:VEVENT
BEGIN:VEVENT
DTSTART;TZID=Asia/Kolkata:20200217T090000
DTEND;TZID=Asia/Kolkata:20200218T170000
DTSTAMP:20260420T082638
CREATED:20240202T055600Z
LAST-MODIFIED:20240202T055600Z
UID:142921-1581930000-1582045200@events.srmap.edu.in
SUMMARY:Celebrating Sportsmanship with SRM Sports Fest 2020
DESCRIPTION:SRM University-AP’s Sports Fest\, hosted on February 17-18\, 2020\, emerged as a grand celebration. The two-day event was hosted by the Directorate of Sports and saw a remarkable display of athletic prowess by over 800 students. The event showcased a multitude of events\, such as football\, cricket\, volleyball\, basketball\, table tennis\, chess and more\, with both male and female participants in individual as well as team-based events. \nKnock-out matches for each of these events were conducted. Beyond the spectacle of athleticism\, the sports fest served as a testament to the endurance\, passion and spirit of sportsmanship.
URL:https://events.srmap.edu.in/event/celebrating-sportsmanship-with-srm-sports-fest-2020/
CATEGORIES:Events,Students Affairs Events
END:VEVENT
BEGIN:VEVENT
DTSTART;TZID=Asia/Kolkata:20190829T160000
DTEND;TZID=Asia/Kolkata:20190829T170000
DTSTAMP:20260420T082638
CREATED:20240201T041800Z
LAST-MODIFIED:20240201T041800Z
UID:142920-1567094400-1567098000@events.srmap.edu.in
SUMMARY:Honouring the Sports Traditions of the Country
DESCRIPTION:India celebrated National Sports Day on August 29\, 2019\, as a testament to our sporting traditions\, legendary teams and fantastic players. The university commemorated the athletic day by organising a Fit India Movement where faculty and students actively participated in a rally followed by physical exercises and activities. The event was celebrated as part of the initiative launched by The Ministry of Youth Affairs & Sports (MYAS) and ‘Fit India Mission’ that aimed to take the Fit India movement to our organisations and encourage them to participate in developing a healthy and fit body and mind. The National Sports Day celebration witnessed the participation of almost 100 students and faculty from across the university.
URL:https://events.srmap.edu.in/event/honouring-the-sports-traditions-of-the-country/
CATEGORIES:Events,Students Affairs Events
END:VEVENT
BEGIN:VEVENT
DTSTART;TZID=Asia/Kolkata:20190621T163000
DTEND;TZID=Asia/Kolkata:20190621T173000
DTSTAMP:20260420T082638
CREATED:20240131T052700Z
LAST-MODIFIED:20250703T105819Z
UID:142919-1561134600-1561138200@events.srmap.edu.in
SUMMARY:A Spell for Spirituality: Engaging in the Magic of Yoga and Meditation
DESCRIPTION:International Yoga Day was celebrated at SRM University-AP on June 21\, 2019\, to spread awareness of the benefits of the ancient discipline of yoga and meditation. The event was organised on the theme “Yoga for Vasudeva Kutumba’am”\, highlighting the message of One Earth\, One Family\, and One Future. The discipline of yoga facilitates the union of the mind\, body and soul. The practice of yoga benefits in maintaining a healthy mind and physical constitution and is of key importance for the youth of the country. \nThe session was attended by 60 students\, staff and faculty of the university who engaged in performing various asanas followed by a peaceful session on meditation. The event emphasised the need for a sound mind and body for students to excel and thrive in various aspects of their lives\, including gaining knowledge.
URL:https://events.srmap.edu.in/event/a-spell-for-spirituality-engaging-in-the-magic-of-yoga-and-meditation/
CATEGORIES:Events,Students Affairs Events
END:VEVENT
BEGIN:VEVENT
DTSTART;TZID=Asia/Kolkata:20190222T093000
DTEND;TZID=Asia/Kolkata:20190223T170000
DTSTAMP:20260420T082638
CREATED:20240131T052500Z
LAST-MODIFIED:20240131T052500Z
UID:142918-1550827800-1550941200@events.srmap.edu.in
SUMMARY:Sports 2019: A Two-day Athletic Jamboree
DESCRIPTION:The 2019 Sports Fest\, held on February 22 & 23\, 2019\, saw various track-and-field events. The event saw the participation of 650+ participants in various games. The fest aims to engage and promote the students’ sportive prowess. \nThe event featured a variety of competitions\, including basketball\, football\, cricket\, chess\, volleyball and other individual events. Participants of all skill levels\, genders and ages came together to showcase their talents\, compete in friendly rivalry\, and support one another in their athletic pursuits. \nThe sports festival had an exciting knock-out session where players competed head-to-head\, with the winners moving on to the next round. It was a truly memorable and inspiring gathering of passionate sports enthusiasts and dedicated athletes.
URL:https://events.srmap.edu.in/event/sports-2019-a-two-day-athletic-jamboree/
CATEGORIES:Events,Students Affairs Events
END:VEVENT
BEGIN:VEVENT
DTSTART;TZID=Asia/Kolkata:20180829T163000
DTEND;TZID=Asia/Kolkata:20180829T183000
DTSTAMP:20260420T082638
CREATED:20240131T051500Z
LAST-MODIFIED:20250703T110217Z
UID:142915-1535560200-1535567400@events.srmap.edu.in
SUMMARY:National Sports Day Ignites the Spirit of Competition
DESCRIPTION:In honour of legendary Major Dhyan Chand\, SRM University-AP organised a series of basketball matches on August 29\, 2018. Approximately 50 students participated in this thrilling event\, showcasing their skills and passion for the game. The matches were conducted in four groups\, pitting students against each other in friendly yet fiercely competitive encounters.  \nThe theme of the event\, “Sports are an enabler to an inclusive and fit society\,” resonated throughout the day. It highlighted the transformative power of sports in fostering inclusivity\, promoting physical fitness\, and nurturing a sense of community. The event served as a platform for students to come together\, engage in healthy competition\, and celebrate the importance of sports in our lives. \nThe spirited atmosphere and enthusiastic participation were a testament to the enduring legacy of Major Dhyan Chand. His dedication\, discipline\, and exceptional sportsmanship continue to inspire generations of athletes and sports enthusiasts. \nStay tuned for more exciting sporting events and initiatives at SRM University-AP as we continue to honour the legacy of sporting icons and nurture a culture of active participation and excellence in sports.
URL:https://events.srmap.edu.in/event/national-sports-day-ignites-the-spirit-of-competition/
CATEGORIES:Events,Students Affairs Events
END:VEVENT
BEGIN:VEVENT
DTSTART;TZID=Asia/Kolkata:20180621T063000
DTEND;TZID=Asia/Kolkata:20180621T073000
DTSTAMP:20260420T082638
CREATED:20240131T051800Z
LAST-MODIFIED:20250703T105943Z
UID:142916-1529562600-1529566200@events.srmap.edu.in
SUMMARY:Embracing Oneness: International Yoga Day Unites SRM AP Community in a Spiritual Journey
DESCRIPTION:With the theme “Yoga for Vasudev Kutumbaka” (Yoga for One Earth\, One Family\, and One Future)\, we celebrated International Yoga Day with 50 enthusiastic students and faculty members. The event aimed to enlighten participants about the essence of oneness and interconnectedness. Yoga\, a practice that transcends borders and unites individuals from all walks of life\, serves as a powerful tool for nurturing a sense of unity and harmony among humanity. \nThe event shed light on the multi-faceted advantages of yoga\, emphasising its positive impact on mental\, emotional\, social\, and spiritual well-being. Through the practice of yoga and meditation\, individuals can experience a profound transformation that extends far beyond the physical realm. The long-term benefits of yoga empower individuals to lead fulfilling lives\, fostering personal growth and holistic well-being. \nParticipants immersed themselves in a series of yoga exercises and meditation techniques guided by experienced instructors. As everyone delved into their practice\, a sense of peace and unity permeated the space\, creating a collective energy that transcended boundaries. \nStay tuned for more enlightening events and initiatives at SRM University-AP as we continue to explore the depths of our souls and embark on spiritual journeys that lead us towards a brighter and more harmonious future.
URL:https://events.srmap.edu.in/event/embracing-oneness-international-yoga-day-unites-srm-ap-community-in-a-spiritual-journey/
CATEGORIES:Events,Students Affairs Events
END:VEVENT
BEGIN:VEVENT
DTSTART;TZID=Asia/Kolkata:20180316T100000
DTEND;TZID=Asia/Kolkata:20180317T170000
DTSTAMP:20260420T082638
CREATED:20240131T051100Z
LAST-MODIFIED:20240131T051100Z
UID:142914-1521194400-1521306000@events.srmap.edu.in
SUMMARY:Unleashing the Spirit of Sports at SRM University-AP
DESCRIPTION:SRM University-AP witnessed an extraordinary display of athleticism and sportsmanship as it hosted Sport’s Fest 2018. This sports extravaganza attracted a significant turnout of enthusiastic athletes\, with an impressive number of participants reaching a remarkable count of 450. \nThe Fest placed a pronounced focus on celebrating the athletes themselves\, offering a diverse array of both team-based and individual sports disciplines. The meticulously planned and executed activities encompassed a wide range of sporting events\, catering to the interests and talents of all participants. \nBasketball took centre stage\, with thrilling matches that showcased both male and female participants’ skills and dedication to the game. Football\, cricket\, and table tennis provided intense and captivating encounters for both men and women\, leaving spectators on the edge of their seats. Chess\, a game of strategic brilliance\, saw competitors from all genders displaying their mental prowess and tactical mastery. Throwball\, a spirited contest exclusively for women\, and volleyball\, an engaging sport reserved for female athletes\, added an extra layer of excitement to the festival. \nThis comprehensive selection of sports not only ensured inclusivity but also created an electrifying atmosphere of competition and sportsmanship. Athletes pushed their limits\, inspiring each other and forging bonds of camaraderie through the shared love of the games. \nSport’s Fest emerged as a monumental celebration of athleticism\, uniting athletes and sports enthusiasts alike in a grand spectacle of talent and passion. The scale and significance of the event were unmatched\, leaving an indelible mark on the university’s sporting legacy. As we relish the memories of this incredible event\, let us carry forward the spirit of sportsmanship and camaraderie.
URL:https://events.srmap.edu.in/event/unleashing-the-spirit-of-sports-at-srm-university-ap/
CATEGORIES:Events,Students Affairs Events
END:VEVENT
END:VCALENDAR