BEGIN:VCALENDAR
VERSION:2.0
PRODID:-//SRMAP Events - ECPv6.15.11//NONSGML v1.0//EN
CALSCALE:GREGORIAN
METHOD:PUBLISH
X-WR-CALNAME:SRMAP Events
X-ORIGINAL-URL:https://events.srmap.edu.in
X-WR-CALDESC:Events for SRMAP Events
REFRESH-INTERVAL;VALUE=DURATION:PT1H
X-Robots-Tag:noindex
X-PUBLISHED-TTL:PT1H
BEGIN:VTIMEZONE
TZID:Asia/Kolkata
BEGIN:STANDARD
TZOFFSETFROM:+0530
TZOFFSETTO:+0530
TZNAME:IST
DTSTART:20190101T000000
END:STANDARD
END:VTIMEZONE
BEGIN:VEVENT
DTSTART;TZID=Asia/Kolkata:20201107T150000
DTEND;TZID=Asia/Kolkata:20201107T160000
DTSTAMP:20260419T182656
CREATED:20201105T113200Z
LAST-MODIFIED:20250623T070509Z
UID:142608-1604761200-1604764800@events.srmap.edu.in
SUMMARY:Prof Budaraju Srinivasa Murty to share insights during University Distinguished Lecture Series 03
DESCRIPTION:SRM University-AP\, Andhra Pradesh\, orchestrates the third chapter of the University Distinguished Lecture Series on “Atma Nirbhar Bharat: The role of collaborations”. Prof Budaraju Srinivasa Murty\, Director of Indian Institute of Technology\, Hyderabad\, will be adorning the webinar with his presence on November 7\, 2020\, at 3 p.m. Prof B SMurthy is an Indian metallurgist who has been awarded the Shanti Swarup Bhatnagar Prize for Science and Technology in 2007\, the highest science award in India. Formerly\, he was the Head of the Department at Indian Institute of Technology\, Madras after being the Professor at Indian Institute of Technology\, Kharagpur. The celebrated scientist will be demonstrating how collaborative research will steer India towards achieving its dream of being Self Reliant by innovating technology through collective wisdom. \n\n\n\n\n 
URL:https://events.srmap.edu.in/event/prof-budaraju-srinivasa-murty-to-share-insights-during-university-distinguished-lecture-series-03/
CATEGORIES:Events,Research Events,University Distinguished Lecture
END:VEVENT
BEGIN:VEVENT
DTSTART;TZID=Asia/Kolkata:20201031T150000
DTEND;TZID=Asia/Kolkata:20201031T160000
DTSTAMP:20260419T182656
CREATED:20201027T042300Z
LAST-MODIFIED:20250623T070516Z
UID:142606-1604156400-1604160000@events.srmap.edu.in
SUMMARY:University Distinguished Lecture Series 02: Prof N Balakrishnan on Data to Discovery in Information Security
DESCRIPTION:SRM University-AP\, Andhra Pradesh has arranged the University Distinguished Lecture Series 02 on October 31\, 2020 at 3 PM. Prof N Balakrishnan\, Super Computer Education and Research Centre\, Honorary Professor\, Indian Institute of Science (IISc.)\, Bengaluru will be delivering a lecture on Data to Discovery in Information Security during the webinar. The guest speaker is a visiting professor at Jawaharlal Nehru Centre for Advanced Scientific Research\, Institute for Software Research International\, and Carnegie Mellon University. Also\, he is the director of the Indian Institute of Information Technology and Management\, Industrial Finance Corporation of India\, Bharat Sanchar Nigam\, and the Data Security Council of India. The Government of India honoured him with the civilian award of Padma Shri in 2002. \nPresently\, Prof N Balakrishnan is heading the National Supercomputing Mission of India approved by the Government of India. In addition\, he is a former member of the National Security Advisory Board and the Telecom Regulatory Authority of India along with being the former Deputy Managing Director of El Forge Ltd. Further\, he held the posts of a director at C-DOT Alcatel Lucent Research Centre\, Bharat Electronics\, and Central Bank of India. Most prominently\, Prof N Balakrishnan is renowned for his contribution in the establishment of the National Centre for Science Information\, and Supercomputer Education Research Centre\, in 1984\, and 1994 respectively\, at the Indian Institute of Science. \n\n\nDuring his lecture\, Prof N Balakrishnan will focus on demonstrating the use of Artificial Intelligence (AI) and Machine Learning (ML) in discovering the ever-increasing quantity of data in computer networks. Splitting his lecture into two segments\, Prof N Balakrishnan will initiate the session by describing the concept “Revenge of Silicon” that clearly establishes the inevitability of the birth of big data and AI. Further\, he will share insights regarding his research on the use of ML in handling large volumes of network data to enhance the performance of Intrusion Detection Systems\, detecting structured botnets at infrastructure level traffic\, malware detection\, and classification for offline and online streaming data. Proceeding with the talk\, he will dedicate the second half of his lecture in explaining Influence maximization and mobility\, and churn prediction for a large population of a city which depend on large volumes of data from social media and Call Data Records (CDR). These concepts have significance in establishing smart cities\, smart businesses\, and smart economy. \n\n\n\n 
URL:https://events.srmap.edu.in/event/university-distinguished-lecture-series-02-prof-n-balakrishnan-on-data-to-discovery-in-information-security/
CATEGORIES:Events,Research Events,University Distinguished Lecture,Webinars
END:VEVENT
BEGIN:VEVENT
DTSTART;TZID=Asia/Kolkata:20201017T150000
DTEND;TZID=Asia/Kolkata:20201017T170000
DTSTAMP:20260419T182656
CREATED:20201014T052200Z
LAST-MODIFIED:20250623T070541Z
UID:142603-1602946800-1602954000@events.srmap.edu.in
SUMMARY:University Distinguished Lecture Series 01: Prof Ajay K Sood on "Doing Science Without Borders"
DESCRIPTION:SRM University-AP\, Andhra Pradesh is organizing University Distinguished Lecture Series. The first edition of the series is arranged on October 17\, 2020\, at 3 p.m.\, where Prof Ajay K Sood\, Fellow of the Royal Society\, FRS and Honorary Professor\, Indian Institute of Science (IISc)\, Bengaluru\, will be delivering a lecture on “Doing Science Without Borders”. In the recent times\, humanity is facing several challenges such as the Covid-19 pandemic\, climate change\, and energy and food crises. Scientific and evidence-based inputs from various disciplines of natural science\, engineering\, as well as humanities is essential for the world to thrive. \nThis inter-disciplinary approach with active collaboration amongst experts across different spheres will assist in synthesizing a complete understanding of the issues. Prof Ajay K Sood will speak on his recent works such as “Emergent phenomena of flocking seen in birds\, fishes and humans”\, “Machine learning in understanding a few century-old problem of devitrification of glasses”\, and “Making of nanoscale bacterial heat engines”. Drawing examples from his aforementioned works\, Prof Ajay K Sood will narrate the power of collaboration in doing creative basic science. \n\n\n\n\n 
URL:https://events.srmap.edu.in/event/university-distinguished-lecture-series-01-prof-ajay-k-sood-on-doing-science-without-borders/
CATEGORIES:Events,Research Events,University Distinguished Lecture,Webinars
END:VEVENT
END:VCALENDAR