BEGIN:VCALENDAR
VERSION:2.0
PRODID:-//SRMAP Events - ECPv6.15.11//NONSGML v1.0//EN
CALSCALE:GREGORIAN
METHOD:PUBLISH
X-WR-CALNAME:SRMAP Events
X-ORIGINAL-URL:https://events.srmap.edu.in
X-WR-CALDESC:Events for SRMAP Events
REFRESH-INTERVAL;VALUE=DURATION:PT1H
X-Robots-Tag:noindex
X-PUBLISHED-TTL:PT1H
BEGIN:VTIMEZONE
TZID:Asia/Kolkata
BEGIN:STANDARD
TZOFFSETFROM:+0530
TZOFFSETTO:+0530
TZNAME:IST
DTSTART:20220101T000000
END:STANDARD
END:VTIMEZONE
BEGIN:VEVENT
DTSTART;TZID=Asia/Kolkata:20230307T090000
DTEND;TZID=Asia/Kolkata:20230313T170000
DTSTAMP:20260421T232304
CREATED:20230306T062500Z
LAST-MODIFIED:20230306T062500Z
UID:142962-1678179600-1678726800@events.srmap.edu.in
SUMMARY:‘Women are a Superpower’: International Women’s Day Celebrations
DESCRIPTION:  \nTo celebrate the power in you\, SRM University-AP is organising “AADHYA’23” on International Women’s Day from March 07-13\, 2023. The week-long celebration aims at empowering women in society and includes a Free Health Camp organised by the Health Centre & NSS team in association with AIIMS\, Mangalagiri and IGCAR\, Kalpakkam for all women faculty and staff of SRM University-AP as well as in the surrounding villages at Neerukonda\, Kuragallu & Nidamarru. Smt. P V Ratnam\, Additional Deputy Commissioner of Police (crimes)\, Vijayawada; Dr Menaka\, Head\, RAMS\, RESD SQRMG\, Indira Gandhi Centre for Atomic Research (IGCAR)\, Kalpakkam\, are the chief guests of the inaugural ceremony. Social and cultural programmes will be conducted by The Directorate of HR and Student Affairs to raise awareness and empower and embrace equity among women. \nJoin the celebration to laud the power in you!
URL:https://events.srmap.edu.in/event/women-are-a-superpower-international-womens-day-celebrations/
CATEGORIES:Events,University Event
END:VEVENT
END:VCALENDAR