BEGIN:VCALENDAR
VERSION:2.0
PRODID:-//SRMAP Events - ECPv6.15.11//NONSGML v1.0//EN
CALSCALE:GREGORIAN
METHOD:PUBLISH
X-WR-CALNAME:SRMAP Events
X-ORIGINAL-URL:https://events.srmap.edu.in
X-WR-CALDESC:Events for SRMAP Events
REFRESH-INTERVAL;VALUE=DURATION:PT1H
X-Robots-Tag:noindex
X-PUBLISHED-TTL:PT1H
BEGIN:VTIMEZONE
TZID:Asia/Kolkata
BEGIN:STANDARD
TZOFFSETFROM:+0530
TZOFFSETTO:+0530
TZNAME:IST
DTSTART:20230101T000000
END:STANDARD
END:VTIMEZONE
BEGIN:VEVENT
DTSTART;TZID=Asia/Kolkata:20240125T150000
DTEND;TZID=Asia/Kolkata:20240125T170000
DTSTAMP:20260421T053216
CREATED:20240124T031100Z
LAST-MODIFIED:20250806T115010Z
UID:142640-1706194800-1706202000@events.srmap.edu.in
SUMMARY:UDL #17: Dr Girish Sahni to Expound on Tech-Market Progression
DESCRIPTION:SRM University-AP is organising its 17th University Distinguished Lecture (UDL) on January 25\, 2024. The university places great emphasis on research as a fundamental aspect of its academic pursuits and holds such events regularly. The varsity’s 17th UDL will host Dr Girish Sahni\, former Director General of CSIR and Former Secretary – Government of India\, as its guest speaker. Dr Sahni will address the audience on the topic “Scientific Progress to Grand Progression: Opportunities and Challenges in Science-to-technology-to-market Paradigms”. \nDr Sahni is an exceptional scientist with a specialisation in Protein Engineering\, Molecular Biology\, and Biotechnology. His contributions in the field of protein cardiovascular drugs\, particularly in the area of ‘clot busters’ and their mode of action in the human body\, are truly inspiring. Dr Sahni has authored several papers in high-impact scientific journals and has several national and international patents to his credit. \nAbstract \nAs India prepares to be one of the top-ranking economies in the world\, we need to ponder the pathways that require strengthening for the future\, in science education\, innovation and investment strategies leading to useful products and services at a world-class level. The challenge involves the many impressive achievements of the past in various science and technology sectors that can be galvanised to catapult us to newer heights of ambitions. The lecture will discuss some of the well-known achievements from the past as well as the speaker’s personal experiences\, to enable us to move forward with optimism. \nJoin the talk for an insightful session!
URL:https://events.srmap.edu.in/event/udl-17-dr-girish-sahni-to-expound-on-tech-market-progression/
LOCATION:APJ Abdul Kalam Auditorium
CATEGORIES:Events,Research Events,University Distinguished Lecture,University Event
END:VEVENT
END:VCALENDAR