BEGIN:VCALENDAR
VERSION:2.0
PRODID:-//SRMAP Events - ECPv6.15.11//NONSGML v1.0//EN
CALSCALE:GREGORIAN
METHOD:PUBLISH
X-ORIGINAL-URL:https://events.srmap.edu.in
X-WR-CALDESC:Events for SRMAP Events
REFRESH-INTERVAL;VALUE=DURATION:PT1H
X-Robots-Tag:noindex
X-PUBLISHED-TTL:PT1H
BEGIN:VTIMEZONE
TZID:Asia/Kolkata
BEGIN:STANDARD
TZOFFSETFROM:+0530
TZOFFSETTO:+0530
TZNAME:IST
DTSTART:20240101T000000
END:STANDARD
END:VTIMEZONE
BEGIN:VEVENT
DTSTART;VALUE=DATE:20251106
DTEND;VALUE=DATE:20251109
DTSTAMP:20260419T190150
CREATED:20251103T104248Z
LAST-MODIFIED:20251104T114523Z
UID:144930-1762387200-1762646399@events.srmap.edu.in
SUMMARY:SRM AP Hosts EPIC 2025
DESCRIPTION:The Department of Electronics and Communication Engineering is organising the second International Conference on Electronic and Photonic Integrated Circuits (EPIC-2025). The three-day hybrid conference will bring together research scholars\, scientists\, industry experts\, and academic professionals worldwide to share their breakthroughs & accomplishments and exchange challenges and approaches in their expertise in the field of Electronics and Photonics.\nThe three-day technical conference will cover categories across ten major tracks and will focus on areas of Nanoengineering & Nanotechnology\, Semiconductor Devices\, Artificial Intelligence & Machine Learning\, Quantum & Neuromorphic Computing\, MEMS & MOEMS\, Biomedical\, RF & THz Applications. \nMr A Chandra Sekhar\, SFS\,Chief Executive Officer-A.P. Medicinal and Aromatic Plants Board\, Department of Health\, Medical & Family Welfare\, Government of Andhra Pradesh will be the Chief Guest\, while Ms. S Stella\, Scientist – F / Director-India Meteorological Department Andhra Pradesh will be the Guest of Honour for the event. \nThe conference will feature plenary\, keynote and invited sessions by academic luminaries from across the world and the country. Additionally the event will also send the extended version of the paper\, which will be published with Wiley Publication: \n1. Physica Status Solidi – Rapid Research Letters (PSS-RRL) Q2\n2. ChemNanoMat (Q2) or\n3. Advances in Materials Science and Engineering \nThe conference will offer an insightful experience to all the participants.\nWe look forward to your active participation. \nTo know more visit the conference website- EPIC 2025 \n 
URL:https://events.srmap.edu.in/event/srm-ap-hosts-epic-2025/
LOCATION:APJ Abdul Kalam Auditorium
CATEGORIES:Conferences,ECE,Homepage Events,University Event
END:VEVENT
END:VCALENDAR