BEGIN:VCALENDAR
VERSION:2.0
PRODID:-//SRMAP Events - ECPv6.15.11//NONSGML v1.0//EN
CALSCALE:GREGORIAN
METHOD:PUBLISH
X-ORIGINAL-URL:https://events.srmap.edu.in
X-WR-CALDESC:Events for SRMAP Events
REFRESH-INTERVAL;VALUE=DURATION:PT1H
X-Robots-Tag:noindex
X-PUBLISHED-TTL:PT1H
BEGIN:VTIMEZONE
TZID:Asia/Kolkata
BEGIN:STANDARD
TZOFFSETFROM:+0530
TZOFFSETTO:+0530
TZNAME:IST
DTSTART:20250101T000000
END:STANDARD
END:VTIMEZONE
BEGIN:VEVENT
DTSTART;TZID=Asia/Kolkata:20260306T150000
DTEND;TZID=Asia/Kolkata:20260306T170000
DTSTAMP:20260420T104511
CREATED:20260306T043009Z
LAST-MODIFIED:20260306T043009Z
UID:145517-1772809200-1772816400@events.srmap.edu.in
SUMMARY:International Women's Day Celebrations
DESCRIPTION:International Women’s Day Celebrations will be held on SRM AP campus on March 06\, 2026. The university welcomes Ms Rayapati Sailaja\, Chairperson\, Andhra Pradesh State Women’s Commission as the Chief Guest\, Ms Indu S Menon\, General Manager\, Isuzu Motors India\, and Major Avinashi Patwal as the Guests of Honour. \nThis year the university celebrates Women’s Day on the theme – “Give to Gain”\, highlighting the importance of supporting\, empowering\, and uplifting women. The theme also emphasises the significance of investing for women’s growth and opportunities\, hence benefiting and progressing society. \nJoin and be part of this meaningful celebration as we come together to honour the spirit\, resilience\, and achievements of women.
URL:https://events.srmap.edu.in/event/international-womens-day-celebrations/
LOCATION:APJ Abdul Kalam Auditorium
CATEGORIES:Events,Homepage Events,Students Affairs Events,University Event
ATTACH;FMTTYPE=image/png:https://events.srmap.edu.in/wp-content/uploads/2026/03/Womens-Day-Homepage-banner.png
END:VEVENT
BEGIN:VEVENT
DTSTART;TZID=Asia/Kolkata:20260414T140000
DTEND;TZID=Asia/Kolkata:20260414T160000
DTSTAMP:20260420T104511
CREATED:20260410T112552Z
LAST-MODIFIED:20260410T112552Z
UID:145668-1776175200-1776182400@events.srmap.edu.in
SUMMARY:Inauguration of Quantum Reference Facility on Campus by Hon’ble Chief Minister of AP
DESCRIPTION:In partnership with the Government of Andhra Pradesh\, the University is taking a significant step towards strengthening India’s quantum ecosystem by establishing India’s 1st Quantum Reference Facility on our campus. \nThe facility\, the first of its kind at an Indian university is being established under the Amaravati Quantum Valley Project—a visionary mission positioning Andhra Pradesh at the forefront of deep-technology innovation. \nThe inauguration will take place on World Quantum Day\, April 14\, 2026\, by Chief Guest Hon’ble Chief Minister of Andhra Pradesh\, Shri Nara Chandrababu Naidu. \nThis initiative reflects SRM AP’s progressive vision and commitment to building a robust\, future-ready quantum ecosystem through strong collaboration between government\, academia\, and industry. \nThrough the Quantum Reference Facility we will nurture the next generation of scientists\, engineers\, and innovators\, while contributing to the development of ‘Made in India’ quantum technologies. \nThe Amaravati Quantum Valley is not merely an initiative\, but a national promise—to establish Andhra Pradesh as a global hub for quantum innovation – and SRM University-AP\, serves as the first Academic Partner in this transformative endeavour.
URL:https://events.srmap.edu.in/event/inauguration-of-quantum-reference-facility-on-campus-by-honble-chief-minister-of-ap/
LOCATION:APJ Abdul Kalam Auditorium
CATEGORIES:Events,Homepage Events,Research Events,University Event
ATTACH;FMTTYPE=image/png:https://events.srmap.edu.in/wp-content/uploads/2026/04/Jute-bag.png
END:VEVENT
END:VCALENDAR