BEGIN:VCALENDAR
VERSION:2.0
PRODID:-//SRMAP Events - ECPv6.15.11//NONSGML v1.0//EN
CALSCALE:GREGORIAN
METHOD:PUBLISH
X-ORIGINAL-URL:https://events.srmap.edu.in
X-WR-CALDESC:Events for SRMAP Events
REFRESH-INTERVAL;VALUE=DURATION:PT1H
X-Robots-Tag:noindex
X-PUBLISHED-TTL:PT1H
BEGIN:VTIMEZONE
TZID:Asia/Kolkata
BEGIN:STANDARD
TZOFFSETFROM:+0530
TZOFFSETTO:+0530
TZNAME:IST
DTSTART:20240101T000000
END:STANDARD
END:VTIMEZONE
BEGIN:VEVENT
DTSTART;TZID=Asia/Kolkata:20250625T090000
DTEND;TZID=Asia/Kolkata:20250626T163000
DTSTAMP:20260420T140522
CREATED:20250725T111525Z
LAST-MODIFIED:20250725T111538Z
UID:144140-1750842000-1750955400@events.srmap.edu.in
SUMMARY:Two-day User’s Meet on NMR Spectroscopy
DESCRIPTION:The Office of the Dean Research will be organising a two-day User’s Meet focused on Nuclear Magnetic Resonance (NMR) Spectroscopy\, scheduled for June 25 and 26 . This programme is designed to offer a thorough introduction to the principles of NMR spectroscopy\, covering fundamental concepts such as nuclear spin\, magnetic fields\, and resonance phenomena. \nParticipants will also gain insight into the broad applications of NMR spectroscopy across diverse fields\, including chemistry\, biology\, medicine\, and materials science\, through engaging talks and illustrative case studies. \nThis programme is tailored for faculty members\, researchers (postdoctoral fellows\, PhD scholars)\, and final-year M.Tech and MSc students who are interested in advanced material and molecular characterisation techniques. \nKey highlights of the programme include: \n\nHands-on training sessions on operating NMR instruments\nPractical guidance on sample preparation\, experiment setup\, and data acquisition\nInteractive modules on interpreting NMR spectra\nTraining on software tools and analytical methods for NMR data processing\n\nThis user’s meet will help enhance participants’ practical skills and analytical understanding of NMR spectroscopy\, enabling more effective application of the technique in their respective research areas. \nAccess the Complete programme schedule through the link here.
URL:https://events.srmap.edu.in/event/two-day-users-meet-on-nmr-spectroscopy/
LOCATION:V-104\, Vikram Sarabhai Block
CATEGORIES:Research Events,Workshop
ATTACH;FMTTYPE=image/png:https://events.srmap.edu.in/wp-content/uploads/2025/06/May-june-display-banner-25.png
END:VEVENT
END:VCALENDAR