BEGIN:VCALENDAR
VERSION:2.0
PRODID:-//SRMAP Events - ECPv6.15.11//NONSGML v1.0//EN
CALSCALE:GREGORIAN
METHOD:PUBLISH
X-ORIGINAL-URL:https://events.srmap.edu.in
X-WR-CALDESC:Events for SRMAP Events
REFRESH-INTERVAL;VALUE=DURATION:PT1H
X-Robots-Tag:noindex
X-PUBLISHED-TTL:PT1H
BEGIN:VTIMEZONE
TZID:Asia/Kolkata
BEGIN:STANDARD
TZOFFSETFROM:+0530
TZOFFSETTO:+0530
TZNAME:IST
DTSTART:20240101T000000
END:STANDARD
END:VTIMEZONE
BEGIN:VEVENT
DTSTART;VALUE=DATE:20250910
DTEND;VALUE=DATE:20250914
DTSTAMP:20260420T091655
CREATED:20250725T103908Z
LAST-MODIFIED:20250725T121617Z
UID:144099-1757462400-1757807999@events.srmap.edu.in
SUMMARY:Gravitational Waves and LIGO India
DESCRIPTION:A Workshop on Gravitational Waves and LIGO India\nBrochure
URL:https://events.srmap.edu.in/event/gravitational-waves-and-ligo-india/
CATEGORIES:Homepage Events,Workshop
ATTACH;FMTTYPE=image/jpeg:https://events.srmap.edu.in/wp-content/uploads/2025/07/gravitational.jpg
END:VEVENT
END:VCALENDAR