BEGIN:VCALENDAR
VERSION:2.0
PRODID:-//SRMAP Events - ECPv6.15.11//NONSGML v1.0//EN
CALSCALE:GREGORIAN
METHOD:PUBLISH
X-ORIGINAL-URL:https://events.srmap.edu.in
X-WR-CALDESC:Events for SRMAP Events
REFRESH-INTERVAL;VALUE=DURATION:PT1H
X-Robots-Tag:noindex
X-PUBLISHED-TTL:PT1H
BEGIN:VTIMEZONE
TZID:Asia/Kolkata
BEGIN:STANDARD
TZOFFSETFROM:+0530
TZOFFSETTO:+0530
TZNAME:IST
DTSTART:20250101T000000
END:STANDARD
END:VTIMEZONE
BEGIN:VEVENT
DTSTART;TZID=Asia/Kolkata:20260205T100000
DTEND;TZID=Asia/Kolkata:20260205T153000
DTSTAMP:20260419T210651
CREATED:20260128T065445Z
LAST-MODIFIED:20260128T070446Z
UID:145237-1770285600-1770305400@events.srmap.edu.in
SUMMARY:Workshop on IP Creation and Technology Transfer
DESCRIPTION:The Technology Transfer Cell organises a one-day workshop on “Intellectual Property Creation and Technology Transfer” on February 05\, 2026. The workshop provides an integrated overview of intellectual property creation and technology transfer in academic research. It covers patentability\, novelty\, inventive steps\, and patent drafting\, followed by practical insights into technology valuation\, licensing\, and industry engagement. \nThe workshop will have two sessions. The first session will be held by Registered Indian Patent Agents and Trademark Agents – Mr Amit Sudarsan\, Director\, Videaim IP Pvt.\, Ltd.\, and\, Walnut IP Pvt.\, Ltd. and Dr Madhavi Muppirala\, Director\, Videaim IP Pvt.\, Ltd.\, and Walnut IP Pvt.\, Ltd. They will elaborate on the topic – “From Idea to Invention: Understanding Novelty\, Inventive Step\, and Patent Drafting”. \nThe second session will be delivered by Prof. G S VinodKumar\, Associate Dean-Technology Transfer Cell\, SRM University-AP\, on the topic – “Technology Transfer Pathways: Valuation\, Licensing\, and Industry Engagement”. \nThe workshop aims to equip faculty members and research scholars with the knowledge required to translate innovations from the laboratory to real-world impact.
URL:https://events.srmap.edu.in/event/workshop-on-ip-creation-and-technology-transfer/
LOCATION:ALC 1\, Homi J Bhabha Block
CATEGORIES:Homepage Events,Research Events,Research Workshop,Workshop
ATTACH;FMTTYPE=image/png:https://events.srmap.edu.in/wp-content/uploads/2026/01/IPR-Workshop-1.png
END:VEVENT
END:VCALENDAR