BEGIN:VCALENDAR
VERSION:2.0
PRODID:-//SRMAP Events - ECPv6.15.11//NONSGML v1.0//EN
CALSCALE:GREGORIAN
METHOD:PUBLISH
X-ORIGINAL-URL:https://events.srmap.edu.in
X-WR-CALDESC:Events for SRMAP Events
REFRESH-INTERVAL;VALUE=DURATION:PT1H
X-Robots-Tag:noindex
X-PUBLISHED-TTL:PT1H
BEGIN:VTIMEZONE
TZID:Asia/Kolkata
BEGIN:STANDARD
TZOFFSETFROM:+0530
TZOFFSETTO:+0530
TZNAME:IST
DTSTART:20250101T000000
END:STANDARD
END:VTIMEZONE
BEGIN:VEVENT
DTSTART;TZID=Asia/Kolkata:20260224T093000
DTEND;TZID=Asia/Kolkata:20260227T170000
DTSTAMP:20260419T194455
CREATED:20260204T052255Z
LAST-MODIFIED:20260204T052255Z
UID:145294-1771925400-1772211600@events.srmap.edu.in
SUMMARY:4-Day Workshop on Advanced Academic Writing
DESCRIPTION:The Office of Dean-Research is organising a 4-Day Workshop on Advanced Academic Writing on February 24-27\, 2026. The workshop aims to equip participants with essential strategies for developing research questions\, theoretical frameworks\, and evidence-based arguments suitable for high-impact journals. \nThe workshop will be beneficial for participants to: – \n\nEnhance skills in writing grant proposals\, book chapters\, and conference abstracts for interdisciplinary audiences\nHands-on training in revision techniques\, peer review simulation\, and ethical use of AI in academic writing\nBuild a collaborative network among humanities scholars in India\n\nKey Topics of Discussion:- \n\nLiterature Review\, Tools\, Ethics & Publication Standards\nWriting Thesis and Dissertation\nStrategies of Referencing in Academic Writing and Scopus AI\nNavigating Technicalities: Scopus Database\, ORCiD\, and Google Scholar\nResearch Integrity in the Age of AI\nLecture on Project Grant\, Fellowship\, and More\n\nLearn from Resource Persons:- \n\nDr Priyanka Tripathi\, IIT Patna\nProf. P K Nayar\, University of Hyderabad\nProf. Diana Fox\, Bridgewater State University\nDr Ridhima Tewari\, IIT Dharwad\nDr Shalini Mittal\, Bennet University\nDr Soni Wadhwa\, SRM University-AP\nShubhada Nagarkar\, Savitribai Phule Pune University\nDr Debashrita Dey\, IIT Dhanbad\nJames Campbell\, Intellect Books\nProf. Saseendran Pallikadavath\, University of Portsmouth\n\nRegistration Link – https://forms.gle/L5iFRgaKWdLorJCJ6 \nPayment Link – https://payment.collexo.com/user/login/?dest=/pay-fee/srm-ap-events/
URL:https://events.srmap.edu.in/event/4-day-workshop-on-advanced-academic-writing/
CATEGORIES:Events,Homepage Events,Research Events,Workshop
ATTACH;FMTTYPE=image/png:https://events.srmap.edu.in/wp-content/uploads/2026/02/4-Day-Workshop-Dean-Research.png
END:VEVENT
BEGIN:VEVENT
DTSTART;TZID=Asia/Kolkata:20260226T110000
DTEND;TZID=Asia/Kolkata:20260226T140000
DTSTAMP:20260419T194455
CREATED:20260224T160539Z
LAST-MODIFIED:20260224T160644Z
UID:145425-1772103600-1772114400@events.srmap.edu.in
SUMMARY:Quantiverse 2026: Hands-on Workshop on Quantum Computing
DESCRIPTION:The Department of Computer Science and Engineering is organising “Quantiverse 2026: Hands-on Quantum Computing”\, a half-day online workshop in collaboration with Centre for Development of Advanced Computing (C-DAC) on February 26\, 2026. \nThe objective of this workshop is to introduce participants to the foundational principles of quantum computing and provide practical exposure to quantum simulation platforms. The sessions will combine conceptual understanding with hands-on experience using Q# (QSharp)\, QSim Noisy Simulator\, and the Qniverse platform. \nThe sessions will be delivered as follows:- \n\nIntroduction to Quantum Computing – Dr Jitendra Joshi\, Knowledge Associate\, C-DAC Pune\nHands-on: Introduction to QSim Noisy Simulator – Mr Girish Belani (C-DAC\nHyderabad)\nHands-on: Introduction to Qniverse Platform – Mr Raja Singh Yadav\, Knowledge Associate\, C-DAC Bengaluru\n\nThe workshop will benefit students\, faculty members\, and research scholars by bridging theoretical learning with practical implementation in emerging quantum technologies. This initiative aims to strengthen industry–academia collaboration and enhance skill development in the domain of quantum computing.
URL:https://events.srmap.edu.in/event/quantiverse-2026-hands-on-workshop-on-quantum-computing/
LOCATION:S-209\, SR Block
CATEGORIES:CSE Events,Departmental Events,Events,Homepage Events,Workshop
ATTACH;FMTTYPE=image/png:https://events.srmap.edu.in/wp-content/uploads/2026/02/Untitled-design-3-1.png
END:VEVENT
END:VCALENDAR