BEGIN:VCALENDAR
VERSION:2.0
PRODID:-//SRMAP Events - ECPv6.15.11//NONSGML v1.0//EN
CALSCALE:GREGORIAN
METHOD:PUBLISH
X-WR-CALNAME:SRMAP Events
X-ORIGINAL-URL:https://events.srmap.edu.in
X-WR-CALDESC:Events for SRMAP Events
REFRESH-INTERVAL;VALUE=DURATION:PT1H
X-Robots-Tag:noindex
X-PUBLISHED-TTL:PT1H
BEGIN:VTIMEZONE
TZID:Asia/Kolkata
BEGIN:STANDARD
TZOFFSETFROM:+0530
TZOFFSETTO:+0530
TZNAME:IST
DTSTART:20250101T000000
END:STANDARD
END:VTIMEZONE
BEGIN:VEVENT
DTSTART;TZID=Asia/Kolkata:20260330T090000
DTEND;TZID=Asia/Kolkata:20260331T170000
DTSTAMP:20260419T182531
CREATED:20260324T112601Z
LAST-MODIFIED:20260324T112601Z
UID:145577-1774861200-1774976400@events.srmap.edu.in
SUMMARY:Workshop on DSP Controllers for EV Applications
DESCRIPTION:The Department of Electrical and Electronics Engineering is organising a Workshop on “DSP Controllers for EV Applications” by Dr G V N Yatendra Babu\, Deputy General Manager (Innovations)\, Solidpro Engineering Support Private Limited\, Chennai\, India. \nThe workshop will provide students with practical and theoretical exposure to “Digital Signal Processor (DSP) controllers used in electric vehicle systems”\, including motor control\, PWM techniques\, real-time control implementation\, and EV powertrain applications. This program will also help students strengthen their understanding of advanced EV technologies and enhance their industry readiness. \nThe event is organised by Tesla Tribe Club and convened by Dr N Kiran Kumar\, Assistant Professor and Dr Somesh Vinayak Tiwari\, HoD\, Department of Electrical and Electronic Engineering.
URL:https://events.srmap.edu.in/event/workshop-on-dsp-controllers-for-ev-applications/
LOCATION:V-105\, Vikram Sarabhai Block
CATEGORIES:Departmental Events,EEE,Events,Homepage Events,Workshop
ATTACH;FMTTYPE=image/png:https://events.srmap.edu.in/wp-content/uploads/2026/03/Home-page-image-5-1.png
END:VEVENT
BEGIN:VEVENT
DTSTART;TZID=Asia/Kolkata:20260330T100000
DTEND;TZID=Asia/Kolkata:20260401T163000
DTSTAMP:20260419T182531
CREATED:20260330T042113Z
LAST-MODIFIED:20260330T042134Z
UID:145607-1774864800-1775061000@events.srmap.edu.in
SUMMARY:Workshop on Researching Marginality in the Social Sciences
DESCRIPTION:The Department of Sociology and Anthropology\, Easwari School of Liberal Arts (ESLA)\, is organising a three-day workshop on “Rendering the Invisible: Researching Marginality in the Social Sciences.” \nDetails: \nDate: March 30 – April 01\, 2026 \nVenue: Tiered Classroom\, 5th Floor\, Homi J Bhabha Block. \nThe workshop is convened by Dr Amal Latif and Dr Nishanth K S\, Assistant Professors from the Department of Sociology and Anthropology.
URL:https://events.srmap.edu.in/event/workshop-on-researching-marginality-in-the-social-sciences/
LOCATION:Tiered Classroom\, 5th Floor\, Admin Block
CATEGORIES:Departmental Events,Events,Homepage Events,sociology and anthropology,Workshop
ATTACH;FMTTYPE=image/png:https://events.srmap.edu.in/wp-content/uploads/2026/03/Sociology-and-Anthropology.png
END:VEVENT
END:VCALENDAR