BEGIN:VCALENDAR
VERSION:2.0
PRODID:-//SRMAP Events - ECPv6.15.11//NONSGML v1.0//EN
CALSCALE:GREGORIAN
METHOD:PUBLISH
X-WR-CALNAME:SRMAP Events
X-ORIGINAL-URL:https://events.srmap.edu.in
X-WR-CALDESC:Events for SRMAP Events
REFRESH-INTERVAL;VALUE=DURATION:PT1H
X-Robots-Tag:noindex
X-PUBLISHED-TTL:PT1H
BEGIN:VTIMEZONE
TZID:Asia/Kolkata
BEGIN:STANDARD
TZOFFSETFROM:+0530
TZOFFSETTO:+0530
TZNAME:IST
DTSTART:20160101T000000
END:STANDARD
END:VTIMEZONE
BEGIN:VEVENT
DTSTART;TZID=Asia/Kolkata:20200212T000000
DTEND;TZID=Asia/Kolkata:20200212T000000
DTSTAMP:20260425T182641
CREATED:20250526T065550Z
LAST-MODIFIED:20250526T065550Z
UID:141054-1581465600-1581465600@events.srmap.edu.in
SUMMARY:Structure of C* Algebras and Brateli Diagrams
DESCRIPTION:
URL:https://events.srmap.edu.in/event/structure-of-c-algebras-and-brateli-diagrams/
CATEGORIES:Events
END:VEVENT
BEGIN:VEVENT
DTSTART;TZID=Asia/Kolkata:20200205T000000
DTEND;TZID=Asia/Kolkata:20200207T000000
DTSTAMP:20260425T182641
CREATED:20250526T070017Z
LAST-MODIFIED:20260324T132806Z
UID:141117-1580860800-1581033600@events.srmap.edu.in
SUMMARY:International Conference on Material Genome (ACCMS-ICMG) and Fracmeet Conference
DESCRIPTION:
URL:https://events.srmap.edu.in/event/international-conference-on-material-genome-accms-icmg-and-fracmeet-conference/
CATEGORIES:Events
ATTACH;FMTTYPE=image/jpeg:https://events.srmap.edu.in/wp-content/uploads/2025/05/ACCMS-ICMG-and-Fracmeet-Conference-scaled.jpg
END:VEVENT
BEGIN:VEVENT
DTSTART;TZID=Asia/Kolkata:20200205T000000
DTEND;TZID=Asia/Kolkata:20200207T000000
DTSTAMP:20260425T182641
CREATED:20250526T070017Z
LAST-MODIFIED:20260325T045036Z
UID:141118-1580860800-1581033600@events.srmap.edu.in
SUMMARY:Fracmeet-2020: International Conference On Material s Genome
DESCRIPTION:
URL:https://events.srmap.edu.in/event/fracmeet-2020-international-conference-on-material-s-genome/
CATEGORIES:Events
ATTACH;FMTTYPE=image/png:https://events.srmap.edu.in/wp-content/uploads/2025/05/Fracmeet-2020.png
END:VEVENT
BEGIN:VEVENT
DTSTART;TZID=Asia/Kolkata:20200131T080000
DTEND;TZID=Asia/Kolkata:20200131T170000
DTSTAMP:20260425T182641
CREATED:20200201T000900Z
LAST-MODIFIED:20250528T110003Z
UID:140404-1580457600-1580490000@events.srmap.edu.in
SUMMARY:SRM AP campus celebrates Research Day-2020
DESCRIPTION:The first chapter of Research Day was observed at SRM University\, AP Campus on 31st January 2020. The novelty of its inception was honoured with the presence of Chief Guest- Dr. R. Chidambaram\, DAE Homi Bhabha Chair Professor\, Bhabha Atomic Research Centre\, Mumbai\, and Former Chairman\, Atomic Energy Commission\, Guest of Honour\, Prof. B Vengamma\, Vice Chancellor and Director\, Sri Venkateswara Institute of Medical Sciences\, Tirupati\, Prof. D. Narayana Rao\, Pro Vice Chancellor\, SRM University\, AP\, Dr. D. Gunasekaran\, Registrar\, SRM University\, AP\, Prof. Ranjit Thapa\, Convener\, Co-convenors- Dr. G.S. Vinod Kumar\, and Dr. Karthik Rajendran\, Deans\, faculty members\, students\, and staff. The program was organized keeping in mind the necessity of developing a culture of research among the young students of the university\, and to provide a platform to exchange and exhibit their innovative ideas. \n\nProf. Narayana Rao\, Pro VC addressing the audience on Research Day\, 2020.\n\nPro VC\, Prof. Rao addressed the audience by speaking about the significance of scientific and technological research in substantially improving the socio-economic status of India. He says\, “When our country became independent\, India had a literacy rate of 12% and life expectancy of 32 years. In 70 years\, India has reached the stature of being one of the top five economies of the world. This remarkable transformation is credited to science and technology. The advances in research gave birth to a whole generation of self-confident Indians who took up adventurous career path in India and abroad”. Further\, he applauded India’s excellence in academics\, space research\, robotics\, pharmaceuticals\, bio medicine\, manufacturing\, and construction. Prof. Rao adds\, “India is in dire need of regaining the pride and prestige associated with research\, which would provide an inspiring environment for students to showcase and nurture their aptitude in research”. \n\n\n\n\nHon’ble Chief Guest\, Padma Shri\, Padma Vibhushan\, Dr. R. Chidambaram is a nuclear scientist known for his integral role in developing India’s nuclear weapons. He worked with the team that conducted the first nuclear test (Smiling Buddha) as Pokhran Test Range in 1974. Further\, he coordinated and led the team- Department of Atomic Energy (DAE) that conducted the second nuclear test Pokhran II in May 1998. His inspiring address themed at the significance of research in generating knowledge that can mitigate problems pertaining to science and society. He believes that science is a universal consciousness that spars geographical boundaries and religions. He suggests\, “We should equip our researchers to innovate and utilize the knowledge”. \n\nDr. D Gunasekaran\, Registrar honouring the Chief Guest\, Dr. R. Chidambaram on Research Day.\n\n\nProf. Narayana Rao hounouring Dr. Chidambaram.\n\nDirected basic research is necessary to meet the long term industrial and strategic needs of India. Dr. R. Chidambaram motivates the audience by demonstrating the current advancements in research\, namely SRM’s collaborative project with Tanishq ‘hardening of 22 carat gold’ and hydrogen train. He also mentioned multi-disciplinary projects such as world class Tumor Knee Prosthetics\, research in the domain of low carbon energy\, improvement in military strength and security through nuclear programs\, Indian National Knowledge Network\, RuTAG\, and many more. He believes that India is an anti-fragile nation as it has become self-reliant by combating adverse situations and crises. In his views\, optimistic and firmly resolved young scientists can take the nation forward with their continued research. \n\n\n\n\nGuest of Honour\, Prof. B. Vengamma\, MBBS\, DM (neurology) is the Director cum Vice Chancellor and Professor of Neurology at Shri Venkateshwara Institute of Medical Sciences\, Tirupati. Through her 30 years of clinical\, academic and research experience along with 27 years of administrative experience\, she observed that low doctor-patient ratio in India contributed to negligible research time. Lack of documentation of ample medical cases has minimized the opportunity to conduct extensive research. However\, she believes that progress in science is possible by encouraging more research in bio medicine. Also\, she says\, “In the recent times\, barriers between engineering and medicine and life-sciences has blurred. Exchange of knowledge has bridged the gap between experimental findings in the lab and its actual application in the field of medicine”. \n\nProf. B. Vengamma addressing the audience on the latest neurological research solutions. \n\nAs a part of the research day program\, the students\, Ph.D. scholars\, and faculty were awarded with Gold Medal\, Silver medal and certificates for their shortlisted research work that they had presented on 29th January\, 2020. SRM University\, AP published a book of combined abstracts submitted for the occasion on the Research Day. Hon’ble guests spent time with researchers\, enquired about their research\, and encouraged them to further proceed with their research work that can aid to ‘making lives better’. \n\nDignitaries with students and faculty who presented exceptional research abstracts.\nDr. R. Chidambaram and Prof. B Vengamma presenting the certificate to a student for outstanding research work.\n Student honoured by Dr. R Chidambaram for remarkable research. \n\nClick here for Press Coverage
URL:https://events.srmap.edu.in/event/srm-ap-campus-celebrates-research-day-2020/
CATEGORIES:Events,Research Events
END:VEVENT
BEGIN:VEVENT
DTSTART;TZID=Asia/Kolkata:20200122T000000
DTEND;TZID=Asia/Kolkata:20200122T000000
DTSTAMP:20260425T182641
CREATED:20250526T065550Z
LAST-MODIFIED:20250526T065550Z
UID:141053-1579651200-1579651200@events.srmap.edu.in
SUMMARY:Applications of Geometry of Numbers and Quaternions of the Number Theory
DESCRIPTION:
URL:https://events.srmap.edu.in/event/applications-of-geometry-of-numbers-and-quaternions-of-the-number-theory/
CATEGORIES:Events
END:VEVENT
BEGIN:VEVENT
DTSTART;TZID=Asia/Kolkata:20200108T000000
DTEND;TZID=Asia/Kolkata:20200108T000000
DTSTAMP:20260425T182641
CREATED:20250526T065549Z
LAST-MODIFIED:20250526T065549Z
UID:141052-1578441600-1578441600@events.srmap.edu.in
SUMMARY:Logical Puzzles in Mathematics
DESCRIPTION:
URL:https://events.srmap.edu.in/event/logical-puzzles-in-mathematics/
CATEGORIES:Events
END:VEVENT
BEGIN:VEVENT
DTSTART;TZID=Asia/Kolkata:20190829T160000
DTEND;TZID=Asia/Kolkata:20190829T170000
DTSTAMP:20260425T182641
CREATED:20240201T041800Z
LAST-MODIFIED:20240201T041800Z
UID:142920-1567094400-1567098000@events.srmap.edu.in
SUMMARY:Honouring the Sports Traditions of the Country
DESCRIPTION:India celebrated National Sports Day on August 29\, 2019\, as a testament to our sporting traditions\, legendary teams and fantastic players. The university commemorated the athletic day by organising a Fit India Movement where faculty and students actively participated in a rally followed by physical exercises and activities. The event was celebrated as part of the initiative launched by The Ministry of Youth Affairs & Sports (MYAS) and ‘Fit India Mission’ that aimed to take the Fit India movement to our organisations and encourage them to participate in developing a healthy and fit body and mind. The National Sports Day celebration witnessed the participation of almost 100 students and faculty from across the university.
URL:https://events.srmap.edu.in/event/honouring-the-sports-traditions-of-the-country/
CATEGORIES:Events,Students Affairs Events
END:VEVENT
BEGIN:VEVENT
DTSTART;TZID=Asia/Kolkata:20190827T161500
DTEND;TZID=Asia/Kolkata:20190827T161500
DTSTAMP:20260425T182641
CREATED:20250526T070319Z
LAST-MODIFIED:20250526T070319Z
UID:141142-1566922500-1566922500@events.srmap.edu.in
SUMMARY:Statistical Physics of Fracture in Heterogeneous Materials
DESCRIPTION:Affiliation: Institute of Mathematical Sciences\, Chennai
URL:https://events.srmap.edu.in/event/statistical-physics-of-fracture-in-heterogeneous-materials/
CATEGORIES:Events
END:VEVENT
BEGIN:VEVENT
DTSTART;TZID=Asia/Kolkata:20190621T163000
DTEND;TZID=Asia/Kolkata:20190621T173000
DTSTAMP:20260425T182641
CREATED:20240131T052700Z
LAST-MODIFIED:20250703T105819Z
UID:142919-1561134600-1561138200@events.srmap.edu.in
SUMMARY:A Spell for Spirituality: Engaging in the Magic of Yoga and Meditation
DESCRIPTION:International Yoga Day was celebrated at SRM University-AP on June 21\, 2019\, to spread awareness of the benefits of the ancient discipline of yoga and meditation. The event was organised on the theme “Yoga for Vasudeva Kutumba’am”\, highlighting the message of One Earth\, One Family\, and One Future. The discipline of yoga facilitates the union of the mind\, body and soul. The practice of yoga benefits in maintaining a healthy mind and physical constitution and is of key importance for the youth of the country. \nThe session was attended by 60 students\, staff and faculty of the university who engaged in performing various asanas followed by a peaceful session on meditation. The event emphasised the need for a sound mind and body for students to excel and thrive in various aspects of their lives\, including gaining knowledge.
URL:https://events.srmap.edu.in/event/a-spell-for-spirituality-engaging-in-the-magic-of-yoga-and-meditation/
CATEGORIES:Events,Students Affairs Events
END:VEVENT
BEGIN:VEVENT
DTSTART;TZID=Asia/Kolkata:20190222T093000
DTEND;TZID=Asia/Kolkata:20190223T170000
DTSTAMP:20260425T182641
CREATED:20240131T052500Z
LAST-MODIFIED:20240131T052500Z
UID:142918-1550827800-1550941200@events.srmap.edu.in
SUMMARY:Sports 2019: A Two-day Athletic Jamboree
DESCRIPTION:The 2019 Sports Fest\, held on February 22 & 23\, 2019\, saw various track-and-field events. The event saw the participation of 650+ participants in various games. The fest aims to engage and promote the students’ sportive prowess. \nThe event featured a variety of competitions\, including basketball\, football\, cricket\, chess\, volleyball and other individual events. Participants of all skill levels\, genders and ages came together to showcase their talents\, compete in friendly rivalry\, and support one another in their athletic pursuits. \nThe sports festival had an exciting knock-out session where players competed head-to-head\, with the winners moving on to the next round. It was a truly memorable and inspiring gathering of passionate sports enthusiasts and dedicated athletes.
URL:https://events.srmap.edu.in/event/sports-2019-a-two-day-athletic-jamboree/
CATEGORIES:Events,Students Affairs Events
END:VEVENT
BEGIN:VEVENT
DTSTART;VALUE=DATE:20181219
DTEND;VALUE=DATE:20181222
DTSTAMP:20260425T182641
CREATED:20181130T035800Z
LAST-MODIFIED:20250528T110002Z
UID:142394-1545213600-1545436740@events.srmap.edu.in
SUMMARY:International Conference on Green energies and Technologies for smart cities
DESCRIPTION:Event Date: December 19 – 21\, 2018\n\nThe conference aims to inform researchers and industry professionals of  technologies and advancements in the fields of green energy\, renewable energy\, materials science\, environmental science and bio-technology.\n\nFor details on the conference\, please visit\nhttp://www.greenenergy2018.com/
URL:https://events.srmap.edu.in/event/international-conference-on-green-energies-and-technologies-for-smart-cities/
CATEGORIES:Conferences,Events,Research Conferences,Research Events
END:VEVENT
BEGIN:VEVENT
DTSTART;TZID=Asia/Kolkata:20181219T000000
DTEND;TZID=Asia/Kolkata:20181221T000000
DTSTAMP:20260425T182641
CREATED:20250526T065912Z
LAST-MODIFIED:20260324T132301Z
UID:141119-1545177600-1545350400@events.srmap.edu.in
SUMMARY:International Conference on “Green Energy Technologies for Smart Cities”
DESCRIPTION:
URL:https://events.srmap.edu.in/event/international-conference-on-green-energy-technologies-for-smart-cities/
CATEGORIES:Events
ATTACH;FMTTYPE=image/jpeg:https://events.srmap.edu.in/wp-content/uploads/2025/05/Green-Energy-Technologies-for-Smart-Cities-1-scaled.jpg
END:VEVENT
BEGIN:VEVENT
DTSTART;TZID=Asia/Kolkata:20180829T163000
DTEND;TZID=Asia/Kolkata:20180829T183000
DTSTAMP:20260425T182641
CREATED:20240131T051500Z
LAST-MODIFIED:20250703T110217Z
UID:142915-1535560200-1535567400@events.srmap.edu.in
SUMMARY:National Sports Day Ignites the Spirit of Competition
DESCRIPTION:In honour of legendary Major Dhyan Chand\, SRM University-AP organised a series of basketball matches on August 29\, 2018. Approximately 50 students participated in this thrilling event\, showcasing their skills and passion for the game. The matches were conducted in four groups\, pitting students against each other in friendly yet fiercely competitive encounters.  \nThe theme of the event\, “Sports are an enabler to an inclusive and fit society\,” resonated throughout the day. It highlighted the transformative power of sports in fostering inclusivity\, promoting physical fitness\, and nurturing a sense of community. The event served as a platform for students to come together\, engage in healthy competition\, and celebrate the importance of sports in our lives. \nThe spirited atmosphere and enthusiastic participation were a testament to the enduring legacy of Major Dhyan Chand. His dedication\, discipline\, and exceptional sportsmanship continue to inspire generations of athletes and sports enthusiasts. \nStay tuned for more exciting sporting events and initiatives at SRM University-AP as we continue to honour the legacy of sporting icons and nurture a culture of active participation and excellence in sports.
URL:https://events.srmap.edu.in/event/national-sports-day-ignites-the-spirit-of-competition/
CATEGORIES:Events,Students Affairs Events
END:VEVENT
BEGIN:VEVENT
DTSTART;VALUE=DATE:20180715
DTEND;VALUE=DATE:20180718
DTSTAMP:20260425T182641
CREATED:20180710T010600Z
LAST-MODIFIED:20250728T043634Z
UID:142393-1531612800-1531871999@events.srmap.edu.in
SUMMARY:International Conference on Transformations in Engineering Education -   Imparting the Futuristic Skills (ICTIEE AP’ 18)
DESCRIPTION:International Conference on Transformations in Engineering Education – Imparting the Futuristic Skills (ICTIEE AP’ 18) \nDate: 15 – 17 July 2018\, SRM University – Andhra Pradesh \nProgram Schedule: Click Here
URL:https://events.srmap.edu.in/event/international-conference-on-transformations-in-engineering-education-imparting-the-futuristic-skills-ictiee-ap-18/
CATEGORIES:Conferences,Events,Research Conferences,Research Events
END:VEVENT
BEGIN:VEVENT
DTSTART;TZID=Asia/Kolkata:20180621T063000
DTEND;TZID=Asia/Kolkata:20180621T073000
DTSTAMP:20260425T182641
CREATED:20240131T051800Z
LAST-MODIFIED:20250703T105943Z
UID:142916-1529562600-1529566200@events.srmap.edu.in
SUMMARY:Embracing Oneness: International Yoga Day Unites SRM AP Community in a Spiritual Journey
DESCRIPTION:With the theme “Yoga for Vasudev Kutumbaka” (Yoga for One Earth\, One Family\, and One Future)\, we celebrated International Yoga Day with 50 enthusiastic students and faculty members. The event aimed to enlighten participants about the essence of oneness and interconnectedness. Yoga\, a practice that transcends borders and unites individuals from all walks of life\, serves as a powerful tool for nurturing a sense of unity and harmony among humanity. \nThe event shed light on the multi-faceted advantages of yoga\, emphasising its positive impact on mental\, emotional\, social\, and spiritual well-being. Through the practice of yoga and meditation\, individuals can experience a profound transformation that extends far beyond the physical realm. The long-term benefits of yoga empower individuals to lead fulfilling lives\, fostering personal growth and holistic well-being. \nParticipants immersed themselves in a series of yoga exercises and meditation techniques guided by experienced instructors. As everyone delved into their practice\, a sense of peace and unity permeated the space\, creating a collective energy that transcended boundaries. \nStay tuned for more enlightening events and initiatives at SRM University-AP as we continue to explore the depths of our souls and embark on spiritual journeys that lead us towards a brighter and more harmonious future.
URL:https://events.srmap.edu.in/event/embracing-oneness-international-yoga-day-unites-srm-ap-community-in-a-spiritual-journey/
CATEGORIES:Events,Students Affairs Events
END:VEVENT
BEGIN:VEVENT
DTSTART;TZID=Asia/Kolkata:20180412T000000
DTEND;TZID=Asia/Kolkata:20180412T000000
DTSTAMP:20260425T182641
CREATED:20180414T100900Z
LAST-MODIFIED:20180414T100900Z
UID:142586-1523491200-1523491200@events.srmap.edu.in
SUMMARY:Build a long-term career plan\, youth told
DESCRIPTION:Guntur MP Jayadev Galla exhorted the youth to figure out what they plan to do at least in the next two decades to position themselves accordingly now itself and to be prepared to enter the real world from the comfort of their homes where their parents would not be around to take care of them. \n \n“The transition from school to college and then to actual career-building will not be as fair\, nice and safe as you might expect\, particularly at a time when the world is rapidly moving towards a greater degree of automation with each passing day. You should quickly adapt to the changing times in order to match up to the tasks”\, he asserted. \nParticipating as chief guest in the inaugural function of SRM University-A.P.’s 1st Cultural Fest-2018 on its premises here on Thursday\, Mr. Jayadev emphasised on the need to have a long-term vision for their future. Career options at hand should be evaluated from time to time to make the necessary course corrections\, Mr. Jayadev said. \nNevertheless\, planning should start at the early stages so as to seize the opportunities as and when they come\, Mr. Jayadev said and insisted that the youngsters should keep learning to be productively engaged with society. \nMr. Jayadev narrated how he moved from a course in chemical engineering and then electrical and to political science\, all in the United States of America where his parents shifted to when he was aged four\, and a challenging role he donned in Amara Raja Batteries and the way he learnt the intricacies of politics\, in which he got to make his mark of 42 years of work experience. \nSRM University A.P. Pro Vice-Chancellor D. Narayana Rao said the university was gearing up to expand its reach to 25\,000 students in a decade and that it concentrated on research\, which was a big differentiator between his institution and the State-funded universities. He thanked the Chief Minister N. Chandrababu Naidu for extending an invitation to the SRM University to set up its campus in Amaravati and took pride in the fact that its construction was completed in barely six months. \nSRM University-A.P. Registrar D. Gunasekaran\, Deputy Registrar Siva Kumar\, event convenors Srabani Basu and Anil K. Suresh were present. \n 
URL:https://events.srmap.edu.in/event/build-a-long-term-career-plan-youth-told/
CATEGORIES:Events,Newsroom
ATTACH;FMTTYPE=image/jpeg:https://events.srmap.edu.in/wp-content/uploads/2018/04/Cultural.jpg
END:VEVENT
BEGIN:VEVENT
DTSTART;TZID=Asia/Kolkata:20180316T100000
DTEND;TZID=Asia/Kolkata:20180317T170000
DTSTAMP:20260425T182641
CREATED:20240131T051100Z
LAST-MODIFIED:20240131T051100Z
UID:142914-1521194400-1521306000@events.srmap.edu.in
SUMMARY:Unleashing the Spirit of Sports at SRM University-AP
DESCRIPTION:SRM University-AP witnessed an extraordinary display of athleticism and sportsmanship as it hosted Sport’s Fest 2018. This sports extravaganza attracted a significant turnout of enthusiastic athletes\, with an impressive number of participants reaching a remarkable count of 450. \nThe Fest placed a pronounced focus on celebrating the athletes themselves\, offering a diverse array of both team-based and individual sports disciplines. The meticulously planned and executed activities encompassed a wide range of sporting events\, catering to the interests and talents of all participants. \nBasketball took centre stage\, with thrilling matches that showcased both male and female participants’ skills and dedication to the game. Football\, cricket\, and table tennis provided intense and captivating encounters for both men and women\, leaving spectators on the edge of their seats. Chess\, a game of strategic brilliance\, saw competitors from all genders displaying their mental prowess and tactical mastery. Throwball\, a spirited contest exclusively for women\, and volleyball\, an engaging sport reserved for female athletes\, added an extra layer of excitement to the festival. \nThis comprehensive selection of sports not only ensured inclusivity but also created an electrifying atmosphere of competition and sportsmanship. Athletes pushed their limits\, inspiring each other and forging bonds of camaraderie through the shared love of the games. \nSport’s Fest emerged as a monumental celebration of athleticism\, uniting athletes and sports enthusiasts alike in a grand spectacle of talent and passion. The scale and significance of the event were unmatched\, leaving an indelible mark on the university’s sporting legacy. As we relish the memories of this incredible event\, let us carry forward the spirit of sportsmanship and camaraderie.
URL:https://events.srmap.edu.in/event/unleashing-the-spirit-of-sports-at-srm-university-ap/
CATEGORIES:Events,Students Affairs Events
END:VEVENT
BEGIN:VEVENT
DTSTART;TZID=Asia/Kolkata:20180207T000000
DTEND;TZID=Asia/Kolkata:20180207T000000
DTSTAMP:20260425T182641
CREATED:20250526T070320Z
LAST-MODIFIED:20250526T070320Z
UID:141144-1517961600-1517961600@events.srmap.edu.in
SUMMARY:Materials Informatics based on Reliable Materials Database
DESCRIPTION:Affiliation: New Industry Creation Hatchery Center\, Tohoku University\, Sendai\,Japan
URL:https://events.srmap.edu.in/event/materials-informatics-based-on-reliable-materials-database/
CATEGORIES:Events
END:VEVENT
BEGIN:VEVENT
DTSTART;TZID=Asia/Kolkata:20180207T000000
DTEND;TZID=Asia/Kolkata:20180207T000000
DTSTAMP:20260425T182641
CREATED:20250526T070319Z
LAST-MODIFIED:20250526T070319Z
UID:141143-1517961600-1517961600@events.srmap.edu.in
SUMMARY:Theoretical study on the interaction of aromatic amino acids with graphene and single-walled carbon nanotube
DESCRIPTION:Affiliation: Chemical division\, Bhabha Atomic Research Center\, Mumbai
URL:https://events.srmap.edu.in/event/theoretical-study-on-the-interaction-of-aromatic-amino-acids-with-graphene-and-single-walled-carbon-nanotube/
CATEGORIES:Events
END:VEVENT
BEGIN:VEVENT
DTSTART;VALUE=DATE:20171122
DTEND;VALUE=DATE:20171123
DTSTAMP:20260425T182641
CREATED:20171122T054800Z
LAST-MODIFIED:20250725T102921Z
UID:139956-1511308800-1511395199@events.srmap.edu.in
SUMMARY:"High Performance Computer Cluster" by Dr.Ranjit Thapa\, SRM Research Institute
DESCRIPTION:Date: November 22\, 2017 \nDr. Ranjit Thapa\, Associate Professor from SRM Research Institute\, SRM University in his lecture on 22nd November 2017 introduces the development and need of supercomputers. He explained how the supercomputers are different from a general-purpose computer in respect of computational capacity. He explained how the scientific problems in different length scale and time scale can be solved via simulation in the computer clusters. He introduces how we can do simulation for energy management system for Hydrogen train and also how we can predict the behaviour of electron and atoms inside the materials. Shortly\, in current date simulations can provide a fast way to screen the suitable materials and predict the performance of devices in a cost-effective way. SRM University has set up a supercomputer center equipped with servers contain 1870 cores and 16 TB of RAM to execute and solve the scientific problems (http://mysrm.srmuniv.ac.in/hpcc/). He also explained that in the emerging field of knowledge (data) based discovery of materials; the descriptor based approach has proven to be quite powerful in the design of new materials as well as obtaining insights into the chemical mechanisms. Within first-principles density functional theory\, his group proposes new electronic structure based descriptor defined as a simple function of (i) the pz occupancy (considering occupied sates) and (ii) the contribution to the density of states at the Fermi Level from pz orbital of an active site of doped graphene. Lastly\, he concluded with the note that “there are lots of job opportunities in the area of supercomputers and scientific computing and it is open for every student”.
URL:https://events.srmap.edu.in/event/high-performance-computer-cluster-by-dr-ranjit-thapa-srm-research-institute/
CATEGORIES:Events
ATTACH;FMTTYPE=image/jpeg:https://events.srmap.edu.in/wp-content/uploads/2017/11/HPCC.jpg
END:VEVENT
BEGIN:VEVENT
DTSTART;TZID=Asia/Kolkata:20170922T080000
DTEND;TZID=Asia/Kolkata:20170922T170000
DTSTAMP:20260425T182641
CREATED:20171030T063100Z
LAST-MODIFIED:20250529T102355Z
UID:139945-1506067200-1506099600@events.srmap.edu.in
SUMMARY:Lecture on "Technology Advancements in Business" by Titan Company Ltd.
DESCRIPTION:September 22\, 2017 \nMr. Sanjay Renewade and Mr. Santosh Srinivas\, representatives of Titan Company Ltd.\, Hosur engaged the students of SRM Amravati in a productive conversation regarding technological advancements in manufacturing. They spoke to students about the use of emerging technologies such as HCI (human machine interactions)\, IoT and Artificial Intelligence in businesses these days.
URL:https://events.srmap.edu.in/event/lecture-on-technology-advancements-in-business-by-titan-company-ltd/
CATEGORIES:Events
END:VEVENT
BEGIN:VEVENT
DTSTART;VALUE=DATE:20171007
DTEND;VALUE=DATE:20171008
DTSTAMP:20260425T182641
CREATED:20171030T061500Z
LAST-MODIFIED:20251010T131053Z
UID:139383-1507334400-1507420799@events.srmap.edu.in
SUMMARY:Session on leveraging Augmented Reality to build immersive phone apps
DESCRIPTION:
URL:https://events.srmap.edu.in/event/session-on-leveraging-augmented-reality-to-build-immersive-phone-apps/
CATEGORIES:Events
ATTACH;FMTTYPE=image/jpeg:https://events.srmap.edu.in/wp-content/uploads/2017/10/Event-2.jpg
END:VEVENT
END:VCALENDAR