BEGIN:VCALENDAR
VERSION:2.0
PRODID:-//SRMAP Events - ECPv6.15.11//NONSGML v1.0//EN
CALSCALE:GREGORIAN
METHOD:PUBLISH
X-ORIGINAL-URL:https://events.srmap.edu.in
X-WR-CALDESC:Events for SRMAP Events
REFRESH-INTERVAL;VALUE=DURATION:PT1H
X-Robots-Tag:noindex
X-PUBLISHED-TTL:PT1H
BEGIN:VTIMEZONE
TZID:Asia/Kolkata
BEGIN:STANDARD
TZOFFSETFROM:+0530
TZOFFSETTO:+0530
TZNAME:IST
DTSTART:20230101T000000
END:STANDARD
END:VTIMEZONE
BEGIN:VEVENT
DTSTART;TZID=Asia/Kolkata:20241003T140000
DTEND;TZID=Asia/Kolkata:20241003T140000
DTSTAMP:20260422T051242
CREATED:20250526T070318Z
LAST-MODIFIED:20250526T070318Z
UID:141132-1727964000-1727964000@events.srmap.edu.in
SUMMARY:Microfluidic measurement of the size and shape of lipid-anchored proteins
DESCRIPTION:Affiliation: Lehigh University\, USA
URL:https://events.srmap.edu.in/event/microfluidic-measurement-of-the-size-and-shape-of-lipid-anchored-proteins/
CATEGORIES:Events
END:VEVENT
BEGIN:VEVENT
DTSTART;TZID=Asia/Kolkata:20241004T153000
DTEND;TZID=Asia/Kolkata:20241004T163000
DTSTAMP:20260422T051242
CREATED:20240926T054500Z
LAST-MODIFIED:20250806T114606Z
UID:142056-1728055800-1728059400@events.srmap.edu.in
SUMMARY:The Significance of Socially Relevant Science Education and Research
DESCRIPTION:The Department of Mathematics is organising the 10th Distinguished Lecture on the topic “Science and Mathematics Education: Whose Science\, for Whom?” on October 04\, 2024. Distinguished academician Prof. R Ramanujam from Azim Premji University\, Bengaluru\, will deliver the esteemed session on the significance of integrating science and research education into university and school curricula to ensure that education is accessible to all sections of society. \nAbstract \nWhat do mathematics and science education mean to a student from socially and economically marginalised sections? We raise such questions and discuss our experiences in school education (in association with Tamil Nadu Science Forum and some government curriculum bodies)\, in teacher education (at Azim Premji University\, Bengaluru) and in education research (with HBCSE\, Mumbai) from this viewpoint. We point to the extensive need for socially rooted education research as well as for decisions in curriculum-making based on research. \nAbout the Speaker \nProfessor R. Ramanujam is an eminent mathematician who earned his PhD from the Tata Institute of Fundamental Research and completed post-doctoral work at City University of New York (CUNY)\, USA. He has a long-standing association with the Institute of Mathematical Sciences (IMSc)\, Chennai\, and is currently a visiting professor at Azim Premji University. His research focuses on logic\, automata theory\, and complexity theory. He is deeply involved in mathematics education and has contributed to national educational frameworks. Notable awards include the Indira Gandhi Prize for Science Popularization in 2020. \nJoin the lecture for an insightful session!
URL:https://events.srmap.edu.in/event/the-significance-of-socially-relevant-science-education-and-research/
LOCATION:Board Room\, Homi J Bhabha Block
CATEGORIES:Departmental Events,Events,Math Events
END:VEVENT
BEGIN:VEVENT
DTSTART;TZID=Asia/Kolkata:20241014T090000
DTEND;TZID=Asia/Kolkata:20241018T170000
DTSTAMP:20260422T051242
CREATED:20240930T233400Z
LAST-MODIFIED:20250728T052613Z
UID:141661-1728896400-1729270800@events.srmap.edu.in
SUMMARY:FDP on Deep Learning and its Applications
DESCRIPTION:The Department of Computer Science and Engineering is organising a five-day Faculty Development Programme on “Recent Trends in Deep Learning and its Applications” from October 14-18\, 2024. The objective of the programme is to enhance the participants’ knowledge of deep learning fundamentals and explore the latest trends and advancements\, such as transformers\, generative AI\, etc. In addition to showcasing the application of deep learning in various fields\, the FDP also seeks to promote collaboration between academia and industry to drive innovation and practical implementations. \nObjectives \n\nStrengthen knowledge of deep learning fundamentals and introduce the latest advancements\, including transformers\, generative AI\, and responsible AI.\nShowcase practical applications of deep learning in areas like computer vision\, healthcare\, automotive\, and manufacturing industries.\nEquip participants with research and development skills for cutting-edge deep learning projects\, encouraging innovation and practical implementations.\nPromote the integration of deep learning with emerging technologies\, such as IoT\, to explore innovative and future-oriented applications.\n\nThe FDP is open to Faculty members\, Research scholars\, PG students\, and Industry professionals from engineering colleges\, universities\, and research institutions. industries. Experts from academia (NITs/IIITs/foreign universities) and industry will serve as resource persons for the Faculty Development Programme. \nBrowse through the brochure for complete details – View Brochure\n \nRegister now for the insightful 5-day programme that will enhance your skillset to keep up with the market trends! \nRegistration Fee (Industry /Academia) – INR 500/- \nNote:- Seats Available to 75 Participants Only! \nFor any query\, reach out to – fdp.rtda@srmap.edu.in \nConvenor – Dr Mahamkali Naveen Kumar\, Dept of CSE \nCo-Convenors – Dr Morampudi Mahesh Kumar\, Dept of CSE and Dr Pandu Sowkuntla\, Dept of CSE
URL:https://events.srmap.edu.in/event/fdp-on-deep-learning-and-its-applications/
CATEGORIES:CSE Events,Departmental Events,Events
END:VEVENT
BEGIN:VEVENT
DTSTART;TZID=Asia/Kolkata:20241016T000000
DTEND;TZID=Asia/Kolkata:20241016T000000
DTSTAMP:20260422T051242
CREATED:20250526T081413Z
LAST-MODIFIED:20250703T115754Z
UID:141349-1729036800-1729036800@events.srmap.edu.in
SUMMARY:Guest Expert Lecture Series #3
DESCRIPTION:Professor\, Department of Biological Sciences\, BEST Lab\, BITS Pilani\, Hyderabad Campus
URL:https://events.srmap.edu.in/event/guest-expert-lecture-series-3/
CATEGORIES:Events
ATTACH;FMTTYPE=image/jpeg:https://events.srmap.edu.in/wp-content/uploads/2025/01/sankar-ganesh.jpg
END:VEVENT
BEGIN:VEVENT
DTSTART;TZID=Asia/Kolkata:20241016T153000
DTEND;TZID=Asia/Kolkata:20241016T153000
DTSTAMP:20260422T051242
CREATED:20250526T070318Z
LAST-MODIFIED:20250526T070318Z
UID:141131-1729092600-1729092600@events.srmap.edu.in
SUMMARY:Semi-conducting 2D Materials based Field Effect Transistors for Rapid Cancer Test\, Multi-Toxin Analyzers\, Chiral/Helical Quantum Device and Brain-Machine-Interface Application
DESCRIPTION:Affiliation: Technion\, Israel
URL:https://events.srmap.edu.in/event/semi-conducting-2d-materials-based-field-effect-transistors-for-rapid-cancer-test-multi-toxin-analyzers-chiral-helical-quantum-device-and-brain-machine-interface-application/
CATEGORIES:Events
END:VEVENT
BEGIN:VEVENT
DTSTART;TZID=Asia/Kolkata:20241019T000000
DTEND;TZID=Asia/Kolkata:20241021T000000
DTSTAMP:20260422T051242
CREATED:20250526T073625Z
LAST-MODIFIED:20250526T073625Z
UID:141252-1729296000-1729468800@events.srmap.edu.in
SUMMARY:Advanced Optimization of Lithium Battery ECM Parameters with CSA Over Varied Temperatures And C-Rates
DESCRIPTION:Abstract: This paper discusses the novel parameter estimation approach by incorporating the Cuckoo Search Algorithm (CSA) to estimate the internal parameters of the battery occurring inside it due to chemical reactions. Several tests such as an open circuit voltage test and hybrid pulse power characterization test are conducted at variable C rates under three different temperature conditions to validate the approach. The Simulink model is developed to obtain the equivalent circuit model parameters. The objective function is taken as experimentally measured voltage and estimated voltage\, the RMSE voltage error magnitude is found to be 0.28%.Venue: Kharagpur\, West BengalInstitute: IIT Kharagpur
URL:https://events.srmap.edu.in/event/advanced-optimization-of-lithium-battery-ecm-parameters-with-csa-over-varied-temperatures-and-c-rates/
CATEGORIES:Events
ATTACH;FMTTYPE=image/png:https://events.srmap.edu.in/wp-content/uploads/2025/05/mech-logo-update.png
END:VEVENT
BEGIN:VEVENT
DTSTART;TZID=Asia/Kolkata:20241021T180000
DTEND;TZID=Asia/Kolkata:20241021T193000
DTSTAMP:20260422T051242
CREATED:20250526T073022Z
LAST-MODIFIED:20250526T073022Z
UID:141206-1729533600-1729539000@events.srmap.edu.in
SUMMARY:Dr N Kiran Kumar\, Assistant Professor\, has been invited to deliver a talk on Advanced Power Converters used in Electric Vehicles
DESCRIPTION:Organising Institution: Stanley College of Enginnering and Technology for WomenCategory:  One week FDP on “Advance Trends in Micro-Grids\, Smart Grids and Electric Vehicles”
URL:https://events.srmap.edu.in/event/dr-n-kiran-kumar-assistant-professor-has-been-invited-to-deliver-a-talk-on-advanced-power-converters-used-in-electric-vehicles/
CATEGORIES:Events
ATTACH;FMTTYPE=image/png:https://events.srmap.edu.in/wp-content/uploads/2024/01/Kiran-Kumar-Microsite.png
END:VEVENT
BEGIN:VEVENT
DTSTART;TZID=Asia/Kolkata:20241022T080000
DTEND;TZID=Asia/Kolkata:20241023T170000
DTSTAMP:20260422T051242
CREATED:20250717T111650Z
LAST-MODIFIED:20250717T111650Z
UID:144003-1729584000-1729702800@events.srmap.edu.in
SUMMARY:SRM AP Partners with Amaravati Drone Summit 2024
DESCRIPTION:The Government of Andhra Pradesh has announced its partnership with SRM University-AP as its technology partner for the Amaravati Drone Summit 2024. The Summit will feature Union Minister of Civil Aviation\, Shri. Kinjarapu Ram Mohan Naidu and the Chief Minister of Andhra Pradesh\, Shri. Chandra Babu Naidu. Their presence will underscore the importance of the Summit and signal the government’s commitment to embracing new technologies that have the potential to revolutionise various sectors. \nThe summit will feature thought-provoking sessions by Vice Chancellor Prof. Manoj K Arora\, along with other industry and academic leaders. Additionally\, a dedicated exhibition aimed at showcasing solutions and addressing challenges encountered in technology operations will be featured. The Summit will also host Hackathons for students\, providing them with a platform to demonstrate their skills and technological expertise. The university’s Centre for Drone Technology will take active part in mutliple sessions at the summit. \nBy nominating SRM University-AP as its technological partner\, the Government of Andhra Pradesh is leveraging the university’s state-of-the-art research facilities and its pool of talented Faculty\, researchers and students. This partnership is expected to not only provide a platform for showcasing cutting-edge drone technology but also to spur research and development in this rapidly evolving field. \nThe event is poised to become a landmark occasion\, paving the way for new collaborations and innovations that could redefine the boundaries in the world of technology.
URL:https://events.srmap.edu.in/event/srm-ap-partners-with-amaravati-drone-summit-2024/
CATEGORIES:Civil Engg events,Events
ATTACH;FMTTYPE=image/jpeg:https://events.srmap.edu.in/wp-content/uploads/2025/07/Brochure-254x300-1.jpeg
END:VEVENT
BEGIN:VEVENT
DTSTART;TZID=Asia/Kolkata:20241023T150000
DTEND;TZID=Asia/Kolkata:20241023T150000
DTSTAMP:20260422T051242
CREATED:20250526T070318Z
LAST-MODIFIED:20250526T070318Z
UID:141130-1729695600-1729695600@events.srmap.edu.in
SUMMARY:Designing 3DMXene Hydrogels for Supercapacitor Electrodes
DESCRIPTION:Affiliation: Stockholm University\, Sweden
URL:https://events.srmap.edu.in/event/designing-3dmxene-hydrogels-for-supercapacitor-electrodes/
CATEGORIES:Events
END:VEVENT
END:VCALENDAR