BEGIN:VCALENDAR
VERSION:2.0
PRODID:-//SRMAP Events - ECPv6.15.11//NONSGML v1.0//EN
CALSCALE:GREGORIAN
METHOD:PUBLISH
X-WR-CALNAME:SRMAP Events
X-ORIGINAL-URL:https://events.srmap.edu.in
X-WR-CALDESC:Events for SRMAP Events
REFRESH-INTERVAL;VALUE=DURATION:PT1H
X-Robots-Tag:noindex
X-PUBLISHED-TTL:PT1H
BEGIN:VTIMEZONE
TZID:Asia/Kolkata
BEGIN:STANDARD
TZOFFSETFROM:+0530
TZOFFSETTO:+0530
TZNAME:IST
DTSTART:20240101T000000
END:STANDARD
END:VTIMEZONE
BEGIN:VEVENT
DTSTART;TZID=Asia/Kolkata:20250102T000000
DTEND;TZID=Asia/Kolkata:20250104T000000
DTSTAMP:20260422T003212
CREATED:20250526T070016Z
LAST-MODIFIED:20260324T131103Z
UID:141111-1735776000-1735948800@events.srmap.edu.in
SUMMARY:Emerging trends in optical technologies
DESCRIPTION:
URL:https://events.srmap.edu.in/event/emerging-trends-in-optical-technologies/
CATEGORIES:Events
ATTACH;FMTTYPE=image/jpeg:https://events.srmap.edu.in/wp-content/uploads/2026/03/Emerging-trends-in-optical-technologies-scaled.jpg
END:VEVENT
BEGIN:VEVENT
DTSTART;TZID=Asia/Kolkata:20250107T110000
DTEND;TZID=Asia/Kolkata:20250107T130000
DTSTAMP:20260422T003212
CREATED:20241203T013400Z
LAST-MODIFIED:20250806T114427Z
UID:142644-1736247600-1736254800@events.srmap.edu.in
SUMMARY:UDL#19: Explore the World of Nanomaterials with Prof. Ajayan – A Pioneer of Nanotechnology
DESCRIPTION:The 19th edition of the University Distinguished Lecture is scheduled to be held on January 07\, 2025. The distinguished lecture will be delivered by the esteemed academician and renowned researcher in the field of nanotechnology\, Prof. Pulickel M. Ajayan\, Benjamin M. and Mary Greenwood Anderson Professor of Engineering at Rice University\, Texas\, USA on the topic “Nano-Engineered Materials”. \nAbstract \nThe last two decades in materials science have been dominated by spectacular discoveries in nanotechnology. This talk will focus on some of these developments\, particularly in relation to the challenges in designing and controllably synthesizing functional nano-engineered materials. The lecture will elaborate on several classes of materials\, for example\, carbon-based and boron-nitrogen-carbon-based materials\, two-dimensional materials such as transition metal di-chalcogenides and their hybrids\, defect-engineered materials and single-atom catalysts\, and interface-controlled nanocomposites. We will also consider the impact of bottom-up engineering on the design of material systems relevant to many areas of applications. Several aspects\, including synthesis\, chemical manipulation and hybridization\, will be discussed to address the opportunities that are available in creating novel nanoengineered materials. \nAbout the Speaker \nProf. Pulickel M Ajayan has worked in nanotechnology for nearly three decades. He has published more than 1300 journal papers\, earning more than 225\,000 citations and an h-index of 230 (by Google Scholar). His work covers diverse areas of nanomaterials including nanoparticles\, nanotubes\, diamond\, 2D materials\, nanocomposite\, energy storage materials and 3D printing. He is the Benjamin M. and Mary Greenwood Anderson professor of Engineering at Rice University and the Founding Chair of the Department of Materials Science and NanoEngineering. He is a recipient of several awards\, such as the Spiers Memorial Award\, the MRS medal\, the Alexander von Humboldt-Helmoltz Senior Award\, and the Lifetime Nanotechnology Award from the Houston Technology Center. He received Docteur Honoris Causa from the Universite Catholique de of Louvain and distinguished alumni recognition from his Alma Mater\, Banaras Hindu University\, and the Materials Science department at Northwestern University. \nJoin the insightful session and hear from the expert!
URL:https://events.srmap.edu.in/event/udl19-explore-the-world-of-nanomaterials-with-prof-ajayan-a-pioneer-of-nanotechnology/
LOCATION:Mini Auditorium
CATEGORIES:Departmental Events,Events,Research Events,University Distinguished Lecture
END:VEVENT
BEGIN:VEVENT
DTSTART;TZID=Asia/Kolkata:20250109T080000
DTEND;TZID=Asia/Kolkata:20250109T170000
DTSTAMP:20260422T003212
CREATED:20250109T040600Z
LAST-MODIFIED:20250109T040600Z
UID:142588-1736409600-1736442000@events.srmap.edu.in
SUMMARY:University Explorations
DESCRIPTION:Outreach and Exploration Programme \nSRM University-AP’s outreach and exploration programme exemplifies its commitment to being Globally Connected\, Regionally Transformative\, and Nationally Relevant. Through multiple initiatives the varsity contributes to the dissemination of knowledge and resources beyond the boundaries of its campus so as to positively impact the society. This focus on outreach not only enriches the learning journey of students but also underscores the university’s belief in the power of knowledge to make a meaningful difference in the lives of many.
URL:https://events.srmap.edu.in/event/university-explorations/
CATEGORIES:Outreach
ATTACH;FMTTYPE=image/jpeg:https://events.srmap.edu.in/wp-content/uploads/2022/09/srm-epic-building.jpg
END:VEVENT
BEGIN:VEVENT
DTSTART;TZID=Asia/Kolkata:20250120T000000
DTEND;TZID=Asia/Kolkata:20250122T000000
DTSTAMP:20260422T003212
CREATED:20250526T073626Z
LAST-MODIFIED:20250526T073626Z
UID:141253-1737331200-1737504000@events.srmap.edu.in
SUMMARY:Solar-Powered VSI Speed Control of PMSM with Performance Analysis & Controller Optimization
DESCRIPTION:Abstract: This study examines the integration of permanent magnet synchronous motors (PMSM) with renewable energy sources\, focusing on solar photovoltaic (SPV) arrays to improve efficiency and sustainability in electric vehicle (EV) applications. PMSM\, renowned for its high efficiency\, silent operation\, and precise control\, is managed using a proportional-integral (PI) controller to handle variable load conditions\, including fluctuations in torque and current. By fine-tuning the PI controller’s gains\, the desired motor speed is achieved efficiently. A DC-DC Buck-Boost converter serves as an intermediary power conditioning unit\, optimizing energy extraction from the SPV array and enhancing system efficiency. This setup ensures that PMSM meets the power and operational demands of EVs. Additionally\, a voltage source inverter (VSI) facilitates electronic commutation of the PMSM\, providing accurate control using fundamental frequency pulses. The system is modeled and simulated in MATLAB/Simulink\, demonstrating its reliability under diverse load conditions. The findings underscore the potential of this approach in promoting renewable energy integration in EVs\, paving the way for cleaner and more sustainable transportation solutions.Venue: NIT RaipurInstitute:  NIT Raipur
URL:https://events.srmap.edu.in/event/solar-powered-vsi-speed-control-of-pmsm-with-performance-analysis-controller-optimization/
CATEGORIES:Events
ATTACH;FMTTYPE=image/png:https://events.srmap.edu.in/wp-content/uploads/2025/02/jawahar-sagar.png
END:VEVENT
BEGIN:VEVENT
DTSTART;TZID=Asia/Kolkata:20250120T000000
DTEND;TZID=Asia/Kolkata:20250122T000000
DTSTAMP:20260422T003212
CREATED:20250526T073627Z
LAST-MODIFIED:20250526T073627Z
UID:141254-1737331200-1737504000@events.srmap.edu.in
SUMMARY:Bi-LSTM-based electrical load prediction model for a microgrid community area of Panama City
DESCRIPTION:Abstract: Accurate prediction of electricity consumption is essential for the efficient functioning of power grids and the successful administration of energy markets in the field of energy planning. There are several benefits such as system efficiency\, dependability\, safety\, and stability with the proper forecasting of load demand. To ensure the proper operation of the microgrid energy management system\, it is essential to predict the overall load demand with precision and consistency. A bidirectional long short-term memory network (Bi-LSTM) model is considered in this paper for the electrical load forecasting of microgrids. The proposed model is verified by using the standard available load forecasting data set of Panama City. Furthermore\, the approach is compared with LSTM load forecasting method. The various performance metrics such as MAE\, RAE\, RSE\, R2\, RMSE\, and NRMSE are employed in this paper to evaluate the accuracy of the proposed prediction model. In this work\, the Bi-LSTM method got the better error reduction values of 17.8% in MAE\, 1.70% in RMSE\, 2.37% in NRMSE\, 3.5% in RSE\, 19% in RAE and 1.2% improvement in R2 when compared to the LSTM model. The proposed load prediction model is helpful in estimating the future power shortages of the microgrid community which leads to improve the system efficiency and reliability.\nVenue: Raipur\nInstitute: National Institute of Technology Raipur
URL:https://events.srmap.edu.in/event/bi-lstm-based-electrical-load-prediction-model-for-a-microgrid-community-area-of-panama-city/
CATEGORIES:Events
ATTACH;FMTTYPE=image/png:https://events.srmap.edu.in/wp-content/uploads/2025/02/kamireddy.png
END:VEVENT
BEGIN:VEVENT
DTSTART;TZID=Asia/Kolkata:20250120T000000
DTEND;TZID=Asia/Kolkata:20250122T000000
DTSTAMP:20260422T003212
CREATED:20250526T073627Z
LAST-MODIFIED:20250526T073627Z
UID:141255-1737331200-1737504000@events.srmap.edu.in
SUMMARY:Customized Inverter configuration for multiple Pole-Pair Stator winding Induction motor drive with reduced DC Bus Voltage
DESCRIPTION:Abstract: In this paper\, A new customized multi-level inverter (MLI) configuration is proposed for induction motor drive\, aiming to lower the requirement of DC bus voltage magnitude. This method utilizes pole pair winding coils separately to generate multi-level voltage waveform across the total stator phase windings. As the inverter requires lower input voltage it eliminates the requirement of boost converters when it is used in the EV applications. The inherent advantages of this topology significantly reduce control complexity in the battery systems by reducing the number of series-connected battery cells. The conventional Level-Shifted Sine Triangle PWM technique proficiently shifts low frequency harmonics to the carrier frequency\, enhancing power quality and minimizing electromagnetic interference. Through MATLAB simulation\, this new customized multi-level inverter-fed open-end stator winding Induction motor is simulated and results are presented to validate the proposed concept. Ultimately\, our research aims to contribute to advancing electric vehicle technology by operating the induction motor with minimal input DC source voltage\, and substantial output gain.\nVenue: NIT Raipur\, G.E Road\, Amanaka\, Raipur\, Chhattisgarh\, India\nInstitute: National Institute of Technology Raipur
URL:https://events.srmap.edu.in/event/customized-inverter-configuration-for-multiple-pole-pair-stator-winding-induction-motor-drive-with-reduced-dc-bus-voltage/
CATEGORIES:Events
ATTACH;FMTTYPE=image/png:https://events.srmap.edu.in/wp-content/uploads/2025/02/manikanta.png
END:VEVENT
BEGIN:VEVENT
DTSTART;TZID=Asia/Kolkata:20250120T000000
DTEND;TZID=Asia/Kolkata:20250122T000000
DTSTAMP:20260422T003212
CREATED:20250526T073628Z
LAST-MODIFIED:20250526T073628Z
UID:141256-1737331200-1737504000@events.srmap.edu.in
SUMMARY:Non-isolated High-Gain DC-DC Converter with Moderate Gain for Hybrid Energy System Applications on DC Microgrids
DESCRIPTION:Abstract: A novel non-isolated High-Gain DC-DC Converter with Moderate Gain for Hybrid Energy.\nVenue: Online (SRM AP)\nInstitute: NIT Raipur
URL:https://events.srmap.edu.in/event/non-isolated-high-gain-dc-dc-converter-with-moderate-gain-for-hybrid-energy-system-applications-on-dc-microgrids/
CATEGORIES:Events
END:VEVENT
BEGIN:VEVENT
DTSTART;TZID=Asia/Kolkata:20250120T000000
DTEND;TZID=Asia/Kolkata:20250122T000000
DTSTAMP:20260422T003212
CREATED:20250526T073628Z
LAST-MODIFIED:20250526T073628Z
UID:141257-1737331200-1737504000@events.srmap.edu.in
SUMMARY:Design and Analysis of DC-DC Boost Converter Using Model Predictive Controller
DESCRIPTION:Abstract: A boost converter is a type of device used to convert direct current (DC) from one voltage level to another. It operates by increasing the input voltage to a higher output voltage level. DC-DC converters are utilised in a wide range of applications. The primary application of boost converters is to establish an interface with renewable energy sources. This paper presents a comparative analysis of two controllers\, namely the Proportional Integral controller and Model Predictive Control (MPC)\, for practical applications of the Boost converter. The boost converter is designed and simulated in the MATLAB/SIMULINK environment for this study. The performance of the MPC con troller is found to be superior when compared to the PI controller. The effectiveness of the proposed control scheme is validated through the utilisation of OPAL-RT.\nVenue: NIT Raipur\nInstitute: NIT Raipur
URL:https://events.srmap.edu.in/event/design-and-analysis-of-dc-dc-boost-converter-using-model-predictive-controller/
CATEGORIES:Events
END:VEVENT
BEGIN:VEVENT
DTSTART;TZID=Asia/Kolkata:20250122T140000
DTEND;TZID=Asia/Kolkata:20250122T170000
DTSTAMP:20260422T003212
CREATED:20250121T052900Z
LAST-MODIFIED:20250806T114310Z
UID:141665-1737554400-1737565200@events.srmap.edu.in
SUMMARY:Bridging Industry and Academia: Departmental Expert Talk
DESCRIPTION:The Department of Computer Science and Engineering  is organising a “Departmental Expert Talk from Academia and Industry.” Dr Malay Bhattacharyya\, Associate Professor\, Machine Intelligence Unit\, Indian Statistical Institute\, Kolkata will deliver an online session on “Human Computation for Social Good” and Mr Malay Kumar Khawas\, Master Principal Cloud Architect and Global Leader – Oracle Community of Practice (Data Management)\, Oracle Technology\, will deliver a session an in-campus on “Oracle Database High Availability and Disaster Recovery in a Multi-cloud Environment for Mission-Critical Enterprise Applications”. \nAbout the Speakers \nDr Malay Bhattacharyya is currently an Associate Professor of Machine Intelligence Unit\, the Coordinator of Centre for Artificial Intelligence and Machine Learning\, and an Associate Member of Technology Innovation Hub on Data Science\, Big Data Analytics\, and Data Curation at Indian Statistical Institute\, Kolkata. He is a certified Design Thinker from the MIT Sloan School of Management and holds a doctorate in Computer Science from the Indian Statistical Institute. He has several decades of teaching and research experience\, including short academic visits to Stanford University\, the University of Ljubljana\, and the Indian Institute of Science\, Bangalore. \nOracle CIO Award Winner and MVP of FY19\, Mr Malay Kumar Khawas is a skilled Solution Engineer and Oracle Enterprise Architect. Malay amplifies business results using his extensive experience in Oracle Engineered System\, Oracle Cloud Infrastructure\, Oracle Identity Management\, Oracle Database Administration\, and Oracle EBS Administration. He employs technology to support the blend of innovation and development. He weaves IT solutions in Oracle to ensure the best enterprise architectures for various Oracle customers. \nJoin us for an invigorating session
URL:https://events.srmap.edu.in/event/bridging-industry-and-academia-departmental-expert-talk/
LOCATION:Tiered Classroom\, 5th Floor\, Admin Block
CATEGORIES:CSE Events,Departmental Events,Events
END:VEVENT
BEGIN:VEVENT
DTSTART;TZID=Asia/Kolkata:20250123T000000
DTEND;TZID=Asia/Kolkata:20250125T000000
DTSTAMP:20260422T003212
CREATED:20250526T070016Z
LAST-MODIFIED:20260310T094338Z
UID:141110-1737590400-1737763200@events.srmap.edu.in
SUMMARY:From Big Bang to Now: A Theory-Experiment Dialogue
DESCRIPTION:
URL:https://events.srmap.edu.in/event/from-big-bang-to-now-a-theory-experiment-dialogue/
CATEGORIES:Events
ATTACH;FMTTYPE=image/png:https://events.srmap.edu.in/wp-content/uploads/2025/05/big-bank.png
END:VEVENT
BEGIN:VEVENT
DTSTART;TZID=Asia/Kolkata:20250123T140000
DTEND;TZID=Asia/Kolkata:20250123T160000
DTSTAMP:20260422T003212
CREATED:20250121T041700Z
LAST-MODIFIED:20250806T114405Z
UID:142068-1737640800-1737648000@events.srmap.edu.in
SUMMARY:French Mathematician Prof. Jean-Marc Deshouillers Invited for 12th Distinguished Lecture
DESCRIPTION:The Department of Mathematics organises the 12th session of the Distinguished Lecture Series on January 23\, 2025. Renowned French mathematician\, Prof. Jean-Marc Deshouillers will deliver the keynote session on the topic “Pairwise co-primality of consecutive elements from sequences with polynomial growth.” \nAbstract \nThe study of the coprimality of elements from sequences with polynomial growth (e.g. $(lfloor alpha n rfloor)_n$ or SPS sequences $(lfloor n^c rfloor)_n$ goes back to Evans (1953)\, Lambek and Moser (1955). I shall give a short outline of recent developments obtained jointly with M. Drmota and C. M”{u}llner and with S. Naik. \nAbout the Speaker \nJean-Marc Deshouillers (born September 12\, 1946\, in Paris) is a French mathematician specializing in analytic number theory. He is a professor at the University of Bordeaux. Deshouillers attended the Paris École Polytechnique\, graduating with an engineering diploma in 1968. He received his PhD in 1972 at the University Paris VI Pierre et Marie Curie. In the seventies\, he was an Assistant Professor of Mathematics at the École Polytechnique\, which moved from Paris to Palaiseau. Deshouillers is a professor at the University of Bordeaux. In 2009\, he was at the Institute for Advanced Study. \nIn 1985\, he showed with Ramachandran Balasubramanian and François Dress that\, in the case of Waring’s problem’s fourth powers\, the least number of fourth powers necessary to express any positive integer as a sum of fourth powers is 19. \nJoin the session and learn from the maestro!
URL:https://events.srmap.edu.in/event/french-mathematician-prof-jean-marc-deshouillers-invited-for-12th-distinguished-lecture/
LOCATION:304\, Conference Hall\, J C Bose Block
CATEGORIES:Departmental Events,Events,Math Events
END:VEVENT
BEGIN:VEVENT
DTSTART;TZID=Asia/Kolkata:20250127T150000
DTEND;TZID=Asia/Kolkata:20250127T150000
DTSTAMP:20260422T003212
CREATED:20250925T093514Z
LAST-MODIFIED:20250925T093514Z
UID:144637-1737990000-1737990000@events.srmap.edu.in
SUMMARY:Beyond the standard model physics at collider
DESCRIPTION:Affiliation: Instituto de Física\, Universidade de São Paulo\, Brazil
URL:https://events.srmap.edu.in/event/beyond-the-standard-model-physics-at-collider/
CATEGORIES:Events
END:VEVENT
BEGIN:VEVENT
DTSTART;TZID=Asia/Kolkata:20250128T150000
DTEND;TZID=Asia/Kolkata:20250128T150000
DTSTAMP:20260422T003212
CREATED:20250925T093839Z
LAST-MODIFIED:20250925T093839Z
UID:144639-1738076400-1738076400@events.srmap.edu.in
SUMMARY:Primordial Relics from Reheating: Linking Inflation to Dark Matter\, Dark Radiation\, and Leptogenesis
DESCRIPTION:Affiliation: Shiv Nadar Institute of Eminence
URL:https://events.srmap.edu.in/event/primordial-relics-from-reheating-linking-inflation-to-dark-matter-dark-radiation-and-leptogenesis/
CATEGORIES:Events
END:VEVENT
END:VCALENDAR