BEGIN:VCALENDAR
VERSION:2.0
PRODID:-//SRMAP Events - ECPv6.15.11//NONSGML v1.0//EN
CALSCALE:GREGORIAN
METHOD:PUBLISH
X-WR-CALNAME:SRMAP Events
X-ORIGINAL-URL:https://events.srmap.edu.in
X-WR-CALDESC:Events for SRMAP Events
REFRESH-INTERVAL;VALUE=DURATION:PT1H
X-Robots-Tag:noindex
X-PUBLISHED-TTL:PT1H
BEGIN:VTIMEZONE
TZID:Asia/Kolkata
BEGIN:STANDARD
TZOFFSETFROM:+0530
TZOFFSETTO:+0530
TZNAME:IST
DTSTART:20240101T000000
END:STANDARD
END:VTIMEZONE
BEGIN:VEVENT
DTSTART;TZID=Asia/Kolkata:20250501T100000
DTEND;TZID=Asia/Kolkata:20250501T120000
DTSTAMP:20260421T182256
CREATED:20250725T114113Z
LAST-MODIFIED:20251007T091718Z
UID:144176-1746093600-1746100800@events.srmap.edu.in
SUMMARY:Distinguished Lecture on Multidisciplinary Research and Networking in Engineering Education
DESCRIPTION:The Department of Electrical and Electronics Engineering is organising the Distinguished Lecture on the topic “Era of Multidisciplinary Research and Networking in Engineering Education” on May 01\, 2025\, at 10:00 AM. The session will be delivered by the distinguished Prof. Archana Sharma. \nAbstract \nThe 21st century heralds an era where ground-breaking innovations emerge at the confluence of diverse disciplines. From the evolution of cathode ray technology into sophisticated monitoring devices to the transformative applications of nuclear energy extending beyond power generation into food preservation and healthcare\, progress is increasingly driven by synergistic efforts. A glimpse of these developments and applications will be illustrated. The very development of particle accelerators\, a testament to multidisciplinary science and technology\, exemplifies this trend\, drawing expertise from engineering\, alongside fundamental sciences like physics\, chemistry\, biology\, and materials science. Indeed\, contemporary advancements\, such as the smart grid\, IoT and countless other inventions\, are inherently interdisciplinary in nature. \nTo maintain a competitive edge and meet burgeoning global demands\, not only is multidisciplinary research crucial\, but timely collaboration through effective networking is equally paramount. As India is navigating through its ‘Amrit Kaal’ with the ambitious goal of becoming a developed nation by 2047\, the synergistic partnership between academia\, industry\, and researchers will be the cornerstone of this transformation. This presentation will underscore the vital role of multidisciplinary approaches and robust networking in fostering innovation and driving technological advancement within an engineering college ecosystem. The commendable efforts of educational institutes\, in actively cultivating this collaborative spirit and contributing to the realization of India’s developmental aspirations\, is highly appreciated with the way forward for Viksit Bharat. \nAbout the Speaker \nProf. (Dr.) Archana Sharma\, FNAE\, FIE\, FIET (UK)\, FNASc\, is Distinguished Professor at Dr. SPM IIIT\, Naya Raipur\, and Senior Professor at HBNI Mumbai. She retired as Distinguished Scientist and Director of the Beam Technology Development Group\, BARC Mumbai. With vast expertise in RF/DC electron beam accelerators\, laser and plasma systems\, pulsed power technologies\, and technology transfers\, she has significantly contributed to nuclear\, industrial\, and environmental sectors. Her achievements include developing India’s first 1MV\,30 kA \,80ns multi-gigawatt pulsed power system for Flash X-rays\, intense microwave sources for IEMI studies\, shock plasma generators for oil recovery\, and electron beam accelerators for food\, medical\, and industrial applications. Prof. Sharma has collaborated with major organizations like ONGC\, BNP\, NTPC\, and contributed to the National Mission for Clean Ganga through indigenous wastewater treatment technologies. She has received numerous awards\, including EMC Engineer of the Year (Asia-Pacific\, 2023)\, Top 75 Women Professionals Award (2022) by Principal Scientific Adviser \, Government of India and British high commission\, SEBTA-2024 Meritorious Award\, IEI Technical Excellence Award (2024)\, Mural M Chugani Award by Indian Physics Association (IPA) for Applied Physics Contribution in (2024)\, Lifetime achievement award by Indian Society for Particle Accelerators (2025). She has guided 17 Ph.D. scholars\, 20 M. Tech theses\, and authored over 200 publications.
URL:https://events.srmap.edu.in/event/distinguished-lecture-on-multidisciplinary-research-and-networking-in-engineering-education/
LOCATION:ALC 1\, Homi J Bhabha Block
CATEGORIES:Events
ATTACH;FMTTYPE=image/png:https://events.srmap.edu.in/wp-content/uploads/2025/07/EEE-Lecture-1920-x-1080-px-1024x576-1.png
END:VEVENT
BEGIN:VEVENT
DTSTART;TZID=Asia/Kolkata:20250509T000000
DTEND;TZID=Asia/Kolkata:20250509T000000
DTSTAMP:20260421T182256
CREATED:20250526T072910Z
LAST-MODIFIED:20250526T072910Z
UID:141205-1746748800-1746748800@events.srmap.edu.in
SUMMARY:Dr Somesh Vinayak Tewari\, Assistant Professor\, was invited as the resource person for the FDP on OBE
DESCRIPTION:
URL:https://events.srmap.edu.in/event/dr-somesh-vinayak-tewari-assistant-professor-was-invited-as-the-resource-person-for-the-fdp-on-obe/
END:VEVENT
BEGIN:VEVENT
DTSTART;TZID=Asia/Kolkata:20250509T110000
DTEND;TZID=Asia/Kolkata:20250509T120000
DTSTAMP:20260421T182256
CREATED:20250506T040500Z
LAST-MODIFIED:20250806T113545Z
UID:141669-1746788400-1746792000@events.srmap.edu.in
SUMMARY:Webinar on AI/ML for Remote Sensing Application
DESCRIPTION:The Department of Computer Science and Engineering (CSE) will conduct a webinar titled “AI/ML for Remote Sensing Application.” Dr Deepak Mishra\, a Professor in the Department of Avionics\, Indian Institute of Space Science and Technology (IIST)\, Trivandrum\, will be the speaker. \nThe lecture will highlight the fundamentals of remote sensing\, including an overview of various remote sensing imaging satellites and their key features. The webinar will also explore how Machine Learning (ML) and Artificial Intelligence (AI) technologies are integrated with remote sensing to address applications that require extensive spectral and spatial data for effective pattern recognition. \nIn addition\, the recent research work of Dr Deepak Mishra\, which focused on road extraction from satellite imagery using deep learning models\, will also be discussed in detail. The current challenges and future research opportunities in the field of remote sensing will be discussed. These insights aim to guide aspiring researchers in leveraging satellite and aerial imagery to overcome existing limitations and advance the capabilities of remote sensing applications.
URL:https://events.srmap.edu.in/event/webinar-on-ai-ml-for-remote-sensing-application/
LOCATION:Zoom
CATEGORIES:CSE Events,Departmental Events,Events
END:VEVENT
BEGIN:VEVENT
DTSTART;VALUE=DATE:20250516
DTEND;VALUE=DATE:20250522
DTSTAMP:20260421T182256
CREATED:20250515T225600Z
LAST-MODIFIED:20250515T225600Z
UID:141670-1747389600-1747821540@events.srmap.edu.in
SUMMARY:Workshop on Recent Advancements in RF and Antenna Technologies
DESCRIPTION:SRM University-AP\, Amaravati\, in collaboration with the Indian Institute of Information Technology (IIIT)\, Pune\, is set to host an ANRF-Sponsored Faculty Development Programme (FDP) on: “Recent Advancements in RF and Antenna Technologies“. \nA series of distinguished speakers will be contributing to the discussion on cutting-edge developments in the field of RF and Antenna Technologies. Dr Ramesh Kumar Sonkar\, Associate Professor in the Department of Electrical Engineering at IIT Guwahati\, will speak on Photonic Crystal-based Multiplexing Techniques for High-Speed Optical Communication. While Dr Amarjeet Singh\, Assistant Professor in the Department of ECE at NIT Warangal\, will explore Terahertz Antennas. \nDr Raj Kishore Kushwaha\, Assistant Professor in the ECE Department at VIT Vellore\, presents on Advanced Techniques in 3D Printed Antenna Design\, and Dr Arvind Kumar\, Assistant Professor in ECE at VNIT Nagpur\, introduces Filtering Antennas and discusses recent advancements in Substrate Integrated Waveguide (SIW)-Based Filtering Antennas. \nBridging the gap between electronics and healthcare\, Ms MVL Bhavani\, a Research Scholar at SRM University-AP\, Amaravati\, contributes with a talk on Breast Cancer Detecting Systems Based on Antenna Sensors and Dr Biswajit Mukherjee\, Associate Professor in the Department of Electronic Science at the University of Delhi\, focuses on Electromagnetic Components for Biomedical Applications. \nLastly\, Dr Arani Ali Khan\, Assistant Professor in the Department of Electrical Engineering at IIT Jodhpur\, discusses the Challenges of RF-Microwave Amplifier Design\, addressing critical issues in high-frequency circuit design. \nKey Topics Covered: \n\n3D Printed Antennas\nTerahertz Antennas\nFiltering Antennas\nRF-Microwave Amplifiers\nOptical Communication\nMicrowave Imaging\nAntennas for Biomedical Applications\n\nOrganisers for the programme include Dr Divya Chaturvedi\, Assistant Professor\, Department of ECE\, IIIT Pune and Dr Manjula Raja\, Assistant Professor\, Department of CSE\, SRM University-AP\, Amaravati. The programme is open to faculty\, researchers\, and students worldwide with free registration and provides E-certificates for full participation. \nClick on the link for Registration : https://forms.gle/koj8cE5NpJtEE34E8
URL:https://events.srmap.edu.in/event/workshop-on-recent-advancements-in-rf-and-antenna-technologies/
LOCATION:Zoom
CATEGORIES:CSE Events,Departmental Events,Events
END:VEVENT
BEGIN:VEVENT
DTSTART;TZID=Asia/Kolkata:20250520T110000
DTEND;TZID=Asia/Kolkata:20250520T120000
DTSTAMP:20260421T182256
CREATED:20250519T013800Z
LAST-MODIFIED:20250519T013800Z
UID:141888-1747738800-1747742400@events.srmap.edu.in
SUMMARY:Panel Discussion on "Exploring Frontiers in Molecular Biology & Biotechnology”
DESCRIPTION:The Department of Biological Science is organising an online panel discussion titled “Exploring Frontiers in Molecular Biology and Biotechnology“. The discussion will focus on exploring the potential career opportunities and how Masters in Molecular Biology and Biotechnology might open doors to roles in research\, healthcare\, pharmaceutical\, and more. \nThe talk will focus on how SRM University – AP\, Amaravati’s Masters in Molecular Biology and Biotechnology program combines cutting-edge research with industry-ready skills. \nThe panel discussion enables science enthusiasts to interact with notable teachers to better understand career paths in academia\, industry\, and research. A Q&A session will be offered to answer questions about curriculum\, placements\, scholarships\, and research opportunities. \nFor more information about the course\, check the link below :\nhttps://www.srmap.edu.in/seas/biological-sciences/msc-molecular-biology-and-biotechnology/
URL:https://events.srmap.edu.in/event/panel-discussion-on-exploring-frontiers-in-molecular-biology-biotechnology/
LOCATION:Zoom
CATEGORIES:Biology Events,Departmental Events,Events
END:VEVENT
BEGIN:VEVENT
DTSTART;TZID=Asia/Kolkata:20250520T110000
DTEND;TZID=Asia/Kolkata:20250520T123000
DTSTAMP:20260421T182256
CREATED:20250519T011700Z
LAST-MODIFIED:20250529T112247Z
UID:142072-1747738800-1747744200@events.srmap.edu.in
SUMMARY:Webinar on Exploring Master’s in Mathematics
DESCRIPTION:The Department of Mathematics will host a webinar titled “From Passion to Profession: Exploring Master’s in Mathematics” on May 20\, 2025. The webinar will centre on finding the intellectual and creative riches of advanced mathematics. Prof. Kalyan Chakraborty\, Professor and Head of Mathematics\, and Prof. V Kannan\, Professor of event. \nThe webinar intends to let math enthusiasts understand more about SRM University-AP’s Masters in ‘Mathematics’ program and its distinctive characteristics. It also facilitates the exploration of a variety of career paths\, such as doctorate research\, data science\, finance\, artificial intelligence\, and others.The webinar will also include an interesting live Q&A session with top faculty members who will answer any questions about the programme.
URL:https://events.srmap.edu.in/event/webinar-on-exploring-masters-in-mathematics/
LOCATION:Zoom
CATEGORIES:Departmental Events,Events,Math Events,Webinars
END:VEVENT
BEGIN:VEVENT
DTSTART;TZID=Asia/Kolkata:20250529T080000
DTEND;TZID=Asia/Kolkata:20250531T170000
DTSTAMP:20260421T182256
CREATED:20250725T113649Z
LAST-MODIFIED:20250725T113649Z
UID:144172-1748505600-1748710800@events.srmap.edu.in
SUMMARY:HackVyuha’25 – Not Just a Hackathon\, It’s a Digital Warfield!
DESCRIPTION:SRM University-AP is proud to host one of India’s largest national-level hackathons – HackVyuha’25\, powered globally by Pillay R Group. Organised by the GeeksforGeeks Student Chapter\, SRM AP\, this three-day tech marathon will bring together 230+ participants from over 30 institutions across India\, converging to innovate\, compete\, and redefine the boundaries of technology. \nThe event is being held from May 29 to 31\, 2025\, under the guidance of Convenor Dr Ashok Kumar Pradhan\, with leadership from Student Lead Mahesh Babu Chittem\, and executed by the energetic and passionate GfG SRM AP Core Team. \nJoin us as we turn SRM AP into a digital battlefield of creativity and code. Let the warfield of innovation begin!
URL:https://events.srmap.edu.in/event/hackvyuha25-not-just-a-hackathon-its-a-digital-warfield/
END:VEVENT
END:VCALENDAR